BEGIN:VCALENDAR
VERSION:2.0
PRODID:-//Diocese of Gloucester - ECPv6.15.20//NONSGML v1.0//EN
CALSCALE:GREGORIAN
METHOD:PUBLISH
X-ORIGINAL-URL:https://gloucester.anglican.org
X-WR-CALDESC:Events for Diocese of Gloucester
REFRESH-INTERVAL;VALUE=DURATION:PT1H
X-Robots-Tag:noindex
X-PUBLISHED-TTL:PT1H
BEGIN:VTIMEZONE
TZID:Europe/London
BEGIN:DAYLIGHT
TZOFFSETFROM:+0000
TZOFFSETTO:+0100
TZNAME:BST
DTSTART:20240331T010000
END:DAYLIGHT
BEGIN:STANDARD
TZOFFSETFROM:+0100
TZOFFSETTO:+0000
TZNAME:GMT
DTSTART:20241027T010000
END:STANDARD
BEGIN:DAYLIGHT
TZOFFSETFROM:+0000
TZOFFSETTO:+0100
TZNAME:BST
DTSTART:20250330T010000
END:DAYLIGHT
BEGIN:STANDARD
TZOFFSETFROM:+0100
TZOFFSETTO:+0000
TZNAME:GMT
DTSTART:20251026T010000
END:STANDARD
BEGIN:DAYLIGHT
TZOFFSETFROM:+0000
TZOFFSETTO:+0100
TZNAME:BST
DTSTART:20260329T010000
END:DAYLIGHT
BEGIN:STANDARD
TZOFFSETFROM:+0100
TZOFFSETTO:+0000
TZNAME:GMT
DTSTART:20261025T010000
END:STANDARD
END:VTIMEZONE
BEGIN:VEVENT
DTSTART;TZID=Europe/London:20250514T190000
DTEND;TZID=Europe/London:20251210T190000
DTSTAMP:20260424T033232
CREATED:20250415T101158Z
LAST-MODIFIED:20260128T221035Z
UID:68186-1747249200-1765393200@gloucester.anglican.org
SUMMARY:Youthscape Essentials Course
DESCRIPTION:10 Evenings covering 30 topics all about supporting young people. \nYou’ll listen to young people\, learn from professionals\, participate in practical exercises and take time to deepen your own faith. The course is accessible to those with no experience\, but deep enough to stretch those who have been working alongside young people for a long time. You will receive a certificate at the end. \nSecond Wednesdays of each month\, online\, 7-9pm\, starting 14 May 2025. \nEmail abbie@southcheltyouth.org.uk for the online meeting code. \n 
URL:https://gloucester.anglican.org/event/youthscape-essentials-course/
LOCATION:Online
CATEGORIES:Children and Family ministry,CMD: Open to all,Developing Your Ministry,Youth Ministry
ORGANIZER;CN="Abbie Marsh":MAILTO:abbie@southcheltyouth.org.uk
END:VEVENT
BEGIN:VEVENT
DTSTART;TZID=Europe/London:20251206T190000
DTEND;TZID=Europe/London:20251206T210000
DTSTAMP:20260424T033232
CREATED:20251103T094334Z
LAST-MODIFIED:20251103T094442Z
UID:72944-1765047600-1765054800@gloucester.anglican.org
SUMMARY:Branch Youth Worship - Did You Know? 
DESCRIPTION:A Monthly Youth Worship Event for secondary school aged young people. \nBranch Youth Worship Event – Build up faith through Biblical teaching \nHosted by The Community Church\, Cinderford. Branch is a free inter-church event. \nIt is self funded and comes under the ministry of The Community Church for safeguarding\, public liability and accountability. \nFor more information\, please contact: branchyouthworshipevent@gmail.com
URL:https://gloucester.anglican.org/event/branch-youth-worship-did-you-know/
LOCATION:The Old Oaklands Snooker Hall\, GL14 2PQ\, United Kingdom
CATEGORIES:Children and Family ministry,Worship & prayer,Youth Ministry
END:VEVENT
BEGIN:VEVENT
DTSTART;TZID=Europe/London:20251212T190000
DTEND;TZID=Europe/London:20251212T210000
DTSTAMP:20260424T033232
CREATED:20251023T124131Z
LAST-MODIFIED:20251023T124131Z
UID:72810-1765566000-1765573200@gloucester.anglican.org
SUMMARY:The Big Bash
DESCRIPTION:
URL:https://gloucester.anglican.org/event/the-big-bash-december-2025/
LOCATION:Kingfisher Church\, Moor Street\, Tredworth\, Gloucester GL1 4NJ\, Kingfisher Church\, Moor Street\, Tredworth\, Gloucester\, GL1 4NJ
CATEGORIES:Children and Family ministry,Youth Ministry
ORGANIZER;CN="Helen Champion":MAILTO:hchampion@glosdioc.org.uk
END:VEVENT
BEGIN:VEVENT
DTSTART;TZID=Europe/London:20251213T083000
DTEND;TZID=Europe/London:20251213T093000
DTSTAMP:20260424T033232
CREATED:20251124T130156Z
LAST-MODIFIED:20251124T130156Z
UID:73434-1765614600-1765618200@gloucester.anglican.org
SUMMARY:Pray for Youth and Children - Forest of Dean
DESCRIPTION:Praying for children and young people to know Jesus. \nA monthly Forest of Dean wide prayer breakfast meeting. Open for all to network\, support and pray. \nOrganised by Together for Youth partnering with The Community Family Minister\, and Churches Together in Lydney. \nContact Jonathan@togetherforyouth.co.uk for more information or to register your interest.
URL:https://gloucester.anglican.org/event/pray-for-youth-and-children-forest-of-dean-december/
LOCATION:St Paul’s Parkend\, Church Drive\, Parkend\, Lydney\, GL15 4HL\, United Kingdom
CATEGORIES:Children and Family ministry,Worship & prayer,Youth Ministry
ORGANIZER;CN="Barrie Voyce":MAILTO:bvoyce@glosdioc.org.uk
END:VEVENT
BEGIN:VEVENT
DTSTART;TZID=Europe/London:20251216T193000
DTEND;TZID=Europe/London:20251216T203000
DTSTAMP:20260424T033232
CREATED:20250820T110056Z
LAST-MODIFIED:20251124T124443Z
UID:71070-1765913400-1765917000@gloucester.anglican.org
SUMMARY:Gloucester Youth Unite
DESCRIPTION:Once a month at St Catharine’s Church. For anyone involved in youth work in the city of Gloucester\, of any denomination.  Coming together to support one another\, to plan for future events\, to share the joys and challenges of youth work and to pray together. \nIt’s exciting to see God moving in many ways amongst our young people across Gloucester city. \n  \n \nHelen Champion is the Youth Connector for Gloucester city\, working in the Deanery and wider Diocese to enable young people to experience ‘life in all its fullness.’
URL:https://gloucester.anglican.org/event/gloucester-youth-unite-december/
LOCATION:St Catharine’s\, Gloucester\, London Road\, Gloucester\, GL2 0RR\, United Kingdom
CATEGORIES:Developing Your Ministry,Youth Ministry
END:VEVENT
END:VCALENDAR