BEGIN:VCALENDAR
VERSION:2.0
PRODID:-//Diocese of Gloucester - ECPv6.15.20//NONSGML v1.0//EN
CALSCALE:GREGORIAN
METHOD:PUBLISH
X-WR-CALNAME:Diocese of Gloucester
X-ORIGINAL-URL:https://gloucester.anglican.org
X-WR-CALDESC:Events for Diocese of Gloucester
REFRESH-INTERVAL;VALUE=DURATION:PT1H
X-Robots-Tag:noindex
X-PUBLISHED-TTL:PT1H
BEGIN:VTIMEZONE
TZID:Europe/London
BEGIN:DAYLIGHT
TZOFFSETFROM:+0000
TZOFFSETTO:+0100
TZNAME:BST
DTSTART:20240331T010000
END:DAYLIGHT
BEGIN:STANDARD
TZOFFSETFROM:+0100
TZOFFSETTO:+0000
TZNAME:GMT
DTSTART:20241027T010000
END:STANDARD
BEGIN:DAYLIGHT
TZOFFSETFROM:+0000
TZOFFSETTO:+0100
TZNAME:BST
DTSTART:20250330T010000
END:DAYLIGHT
BEGIN:STANDARD
TZOFFSETFROM:+0100
TZOFFSETTO:+0000
TZNAME:GMT
DTSTART:20251026T010000
END:STANDARD
BEGIN:DAYLIGHT
TZOFFSETFROM:+0000
TZOFFSETTO:+0100
TZNAME:BST
DTSTART:20260329T010000
END:DAYLIGHT
BEGIN:STANDARD
TZOFFSETFROM:+0100
TZOFFSETTO:+0000
TZNAME:GMT
DTSTART:20261025T010000
END:STANDARD
END:VTIMEZONE
BEGIN:VEVENT
DTSTART;TZID=Europe/London:20250514T190000
DTEND;TZID=Europe/London:20251210T190000
DTSTAMP:20260426T050028
CREATED:20250415T101158Z
LAST-MODIFIED:20260128T221035Z
UID:68186-1747249200-1765393200@gloucester.anglican.org
SUMMARY:Youthscape Essentials Course
DESCRIPTION:10 Evenings covering 30 topics all about supporting young people. \nYou’ll listen to young people\, learn from professionals\, participate in practical exercises and take time to deepen your own faith. The course is accessible to those with no experience\, but deep enough to stretch those who have been working alongside young people for a long time. You will receive a certificate at the end. \nSecond Wednesdays of each month\, online\, 7-9pm\, starting 14 May 2025. \nEmail abbie@southcheltyouth.org.uk for the online meeting code. \n 
URL:https://gloucester.anglican.org/event/youthscape-essentials-course/
LOCATION:Online
CATEGORIES:Children and Family ministry,CMD: Open to all,Developing Your Ministry,Youth Ministry
ORGANIZER;CN="Abbie Marsh":MAILTO:abbie@southcheltyouth.org.uk
END:VEVENT
BEGIN:VEVENT
DTSTART;TZID=Europe/London:20251108T083000
DTEND;TZID=Europe/London:20251108T093000
DTSTAMP:20260426T050028
CREATED:20251028T130933Z
LAST-MODIFIED:20251028T131421Z
UID:72854-1762590600-1762594200@gloucester.anglican.org
SUMMARY:Pray for Youth and Children - Forest of Dean
DESCRIPTION:Praying for children and young people to know Jesus. \nA monthly Forest of Dean wide prayer breakfast meeting. Open for all to network\, support and pray. \nOrganised by Together for Youth partnering with The Community Family Minister\, and Churches Together in Lydney. \nContact Jonathan@togetherforyouth.co.uk for more information or to register your interest.
URL:https://gloucester.anglican.org/event/pray-for-youth-and-children-forest-of-dean-november/
LOCATION:Coleford Baptist Church\, GL16 8AJ\, United Kingdom
CATEGORIES:Children and Family ministry,Worship & prayer,Youth Ministry
ORGANIZER;CN="Barrie Voyce":MAILTO:bvoyce@glosdioc.org.uk
END:VEVENT
BEGIN:VEVENT
DTSTART;TZID=Europe/London:20251111T193000
DTEND;TZID=Europe/London:20251111T203000
DTSTAMP:20260426T050028
CREATED:20250820T105908Z
LAST-MODIFIED:20250820T110204Z
UID:71069-1762889400-1762893000@gloucester.anglican.org
SUMMARY:Gloucester Youth Unite
DESCRIPTION:Once a month at St Catharine’s Church. For anyone involved in youth work in the city of Gloucester\, of any denomination.  Coming together to support one another\, to plan for future events\, to share the joys and challenges of youth work and to pray together. \nIt’s exciting to see God moving in many ways amongst our young people across Gloucester city. \n  \n \nHelen Champion is the Youth Connector for Gloucester city\, working in the Deanery and wider Diocese to enable young people to experience ‘life in all its fullness.’
URL:https://gloucester.anglican.org/event/gloucester-youth-unite-november/
LOCATION:St Catharine’s\, Gloucester\, London Road\, Gloucester\, GL2 0RR\, United Kingdom
CATEGORIES:Developing Your Ministry,Youth Ministry
END:VEVENT
BEGIN:VEVENT
DTSTART;TZID=Europe/London:20251115T170000
DTEND;TZID=Europe/London:20251115T190000
DTSTAMP:20260426T050028
CREATED:20250901T114729Z
LAST-MODIFIED:20250901T114729Z
UID:71366-1763226000-1763233200@gloucester.anglican.org
SUMMARY:X:Site Forest of Dean
DESCRIPTION:X:site (The place of the Cross) is a children’s event supported and run by local churches in partnership with Scripture Union. Together for Youth takes the lead in helping to run this event. \nX:site is a celebration event for 7yr olds to School yr\,  to help them meet and get to know Jesus.  It involves games\, songs\, videos\, creative prayer\, crafts and Bible stories.  \nIt exists to support the work of the local church. \nIt is self funded and comes under the ministry of St. James Church Bream for safeguarding\, public liability and accountability. \nEmail xsiteforestofdean@gmail.com for more information.
URL:https://gloucester.anglican.org/event/xsite-forest-of-dean-november/
LOCATION:St James Church Bream\, 1 St James Sq\, Bream\, GL15 6HB\, United Kingdom
CATEGORIES:Children and Family ministry,Worship & prayer,Youth Ministry
END:VEVENT
BEGIN:VEVENT
DTSTART;TZID=Europe/London:20251124T103000
DTEND;TZID=Europe/London:20251124T120000
DTSTAMP:20260426T050028
CREATED:20251117T101713Z
LAST-MODIFIED:20251117T101713Z
UID:73207-1763980200-1763985600@gloucester.anglican.org
SUMMARY:Stroud Area Youth Ministry Gathering
DESCRIPTION:There have been several exciting ideas and developments regarding youth ministry across the Stroud Valley\, and we are looking to explore what a more formal partnership between [Anglican] churches and The Door’s illuminate project might look like. \nTo gather people from across our churches & denominations to explore this a bit further\, including but not limited to: \nYouth Alpha \nWorship Nights \nDiscipleship \nSchools Ministry \nLinks to primary school / children’s ministry \n  \nThis will be led by the Senior Youth Connector\, Barrie Voyce. \nBarrie leads the growing network of deanery youth connectors\, enabling and equipping effective youth ministry across the diocese.
URL:https://gloucester.anglican.org/event/stroud-area-youth-ministry-gathering/
LOCATION:The Church of the Holy Spirit (Tin Church)\, Stratford Road\, Paganhill\, Stroud\, Gloucester\, GLAN\, United Kingdom
CATEGORIES:Children and Family ministry,Youth Ministry
ORGANIZER;CN="Barrie Voyce":MAILTO:bvoyce@glosdioc.org.uk
END:VEVENT
BEGIN:VEVENT
DTSTART;TZID=Europe/London:20251129T170000
DTEND;TZID=Europe/London:20251129T190000
DTSTAMP:20260426T050028
CREATED:20250930T095401Z
LAST-MODIFIED:20250930T095401Z
UID:72034-1764435600-1764442800@gloucester.anglican.org
SUMMARY:X:Alt
DESCRIPTION:X:alt is a children’s event run by Holy Apostles Church with music\, fun and games\, crafts and gunge\, whilst learning about the Christian faith with friends. \nAimed at children age 7 – 11. \nTo book or get more info\, please contact: xalt@holyapostles.org.uk.
URL:https://gloucester.anglican.org/event/xalt-november/
LOCATION:Holy Apostles Church\, London Road\, Cheltenham\, GL52 6HW\, United Kingdom
CATEGORIES:Children and Family ministry,Worship & prayer,Youth Ministry
END:VEVENT
END:VCALENDAR