BEGIN:VCALENDAR
VERSION:2.0
PRODID:-//Diocese of Gloucester - ECPv6.15.20//NONSGML v1.0//EN
CALSCALE:GREGORIAN
METHOD:PUBLISH
X-WR-CALNAME:Diocese of Gloucester
X-ORIGINAL-URL:https://gloucester.anglican.org
X-WR-CALDESC:Events for Diocese of Gloucester
REFRESH-INTERVAL;VALUE=DURATION:PT1H
X-Robots-Tag:noindex
X-PUBLISHED-TTL:PT1H
BEGIN:VTIMEZONE
TZID:Europe/London
BEGIN:DAYLIGHT
TZOFFSETFROM:+0000
TZOFFSETTO:+0100
TZNAME:BST
DTSTART:20250330T010000
END:DAYLIGHT
BEGIN:STANDARD
TZOFFSETFROM:+0100
TZOFFSETTO:+0000
TZNAME:GMT
DTSTART:20251026T010000
END:STANDARD
BEGIN:DAYLIGHT
TZOFFSETFROM:+0000
TZOFFSETTO:+0100
TZNAME:BST
DTSTART:20260329T010000
END:DAYLIGHT
BEGIN:STANDARD
TZOFFSETFROM:+0100
TZOFFSETTO:+0000
TZNAME:GMT
DTSTART:20261025T010000
END:STANDARD
BEGIN:DAYLIGHT
TZOFFSETFROM:+0000
TZOFFSETTO:+0100
TZNAME:BST
DTSTART:20270328T010000
END:DAYLIGHT
BEGIN:STANDARD
TZOFFSETFROM:+0100
TZOFFSETTO:+0000
TZNAME:GMT
DTSTART:20271031T010000
END:STANDARD
END:VTIMEZONE
BEGIN:VEVENT
DTSTART;TZID=Europe/London:20260204T071500
DTEND;TZID=Europe/London:20260204T211500
DTSTAMP:20260425T165451
CREATED:20251125T095413Z
LAST-MODIFIED:20251125T095602Z
UID:73476-1770189300-1770239700@gloucester.anglican.org
SUMMARY:Exploring Chaplaincy course
DESCRIPTION:Have you every wondered about being a chaplain? \n \nThese days there are chaplains in all sorts of places\, not just in hospitals and prisons. There are chaplains in primary schools\, GP surgeries\, town centres\, workplaces\, care homes\, law courts\, and even racecourses. You might be able to think of a possible chaplaincy opportunity near you. \nSome chaplains are paid\, but many are volunteers\, giving perhaps just one afternoon a week. Some are ordained\, but many are lay people. You don’t have to be an expert in anything to be a chaplain. You don’t need to be a super confident evangelist. You just need to be able to come alongside other people where they are\, showing God’s love through your listening and your care. \nExploring Chaplaincy is a course for people who want to think about this often-overlooked ministry. Could it be for you? Might there be an opportunity to develop chaplaincy from your church\, in your parish? The course is both for people who are already involved in chaplaincy and also for those just beginning to consider the possibility. \n  \nThe six meetings of the course will cover: \n\n What is a chaplain? What is distinctive about chaplaincy\n Don’t just do something  The importance of presence\n The cloak of compassion  Pastoral care and being prophetic\nTwo ears and one mouth  Listing to people\, listening to place\n Say one for me  The spirituality of chaplaincy\n Where we you go from here?  First steps\, support\, and supervision\n\nThe course is free. \nIt will run from Wednesday 14 January to Wednesday 25 February (with a break on 18 February) between 7.15pm – 9.15pm\, meeting at Francis Close Hall in Cheltenham. \nTo access the booking form before 14 January please click here \nFor more information please contact Simon Witcombe switcombe@glos.ac.uk
URL:https://gloucester.anglican.org/event/exploring-chaplaincy-course-2-2-2/
LOCATION:Francis Close Hall Campus\, Francis Close Hall\, Cheltenham\, GL50 4UG\, United Kingdom
CATEGORIES:Children and Family ministry,CMD: Open to all,Curates,Developing Your Ministry,Stewardship and Giving,Worship & prayer,Youth Ministry
ORGANIZER;CN="Revd David Treharne":MAILTO:dtreharne@glosdioc.org.uk
END:VEVENT
BEGIN:VEVENT
DTSTART;TZID=Europe/London:20260211T071500
DTEND;TZID=Europe/London:20260211T211500
DTSTAMP:20260425T165451
CREATED:20251125T095454Z
LAST-MODIFIED:20251125T095606Z
UID:73478-1770794100-1770844500@gloucester.anglican.org
SUMMARY:Exploring Chaplaincy course
DESCRIPTION:Have you every wondered about being a chaplain? \n \nThese days there are chaplains in all sorts of places\, not just in hospitals and prisons. There are chaplains in primary schools\, GP surgeries\, town centres\, workplaces\, care homes\, law courts\, and even racecourses. You might be able to think of a possible chaplaincy opportunity near you. \nSome chaplains are paid\, but many are volunteers\, giving perhaps just one afternoon a week. Some are ordained\, but many are lay people. You don’t have to be an expert in anything to be a chaplain. You don’t need to be a super confident evangelist. You just need to be able to come alongside other people where they are\, showing God’s love through your listening and your care. \nExploring Chaplaincy is a course for people who want to think about this often-overlooked ministry. Could it be for you? Might there be an opportunity to develop chaplaincy from your church\, in your parish? The course is both for people who are already involved in chaplaincy and also for those just beginning to consider the possibility. \n  \nThe six meetings of the course will cover: \n\n What is a chaplain? What is distinctive about chaplaincy\n Don’t just do something  The importance of presence\n The cloak of compassion  Pastoral care and being prophetic\nTwo ears and one mouth  Listing to people\, listening to place\n Say one for me  The spirituality of chaplaincy\n Where we you go from here?  First steps\, support\, and supervision\n\nThe course is free. \nIt will run from Wednesday 14 January to Wednesday 25 February (with a break on 18 February) between 7.15pm – 9.15pm\, meeting at Francis Close Hall in Cheltenham. \nTo access the booking form before 14 January please click here \nFor more information please contact Simon Witcombe switcombe@glos.ac.uk
URL:https://gloucester.anglican.org/event/exploring-chaplaincy-course-2-2-2-2/
LOCATION:Francis Close Hall Campus\, Francis Close Hall\, Cheltenham\, GL50 4UG\, United Kingdom
CATEGORIES:Children and Family ministry,CMD: Open to all,Curates,Developing Your Ministry,Stewardship and Giving,Worship & prayer,Youth Ministry
ORGANIZER;CN="Revd David Treharne":MAILTO:dtreharne@glosdioc.org.uk
END:VEVENT
BEGIN:VEVENT
DTSTART;TZID=Europe/London:20260225T071500
DTEND;TZID=Europe/London:20260225T211500
DTSTAMP:20260425T165451
CREATED:20251125T095533Z
LAST-MODIFIED:20251224T134202Z
UID:73480-1772003700-1772054100@gloucester.anglican.org
SUMMARY:Exploring Chaplaincy course
DESCRIPTION:Have you every wondered about being a chaplain? \n \nThese days there are chaplains in all sorts of places\, not just in hospitals and prisons. There are chaplains in primary schools\, GP surgeries\, town centres\, workplaces\, care homes\, law courts\, and even racecourses. You might be able to think of a possible chaplaincy opportunity near you. \nSome chaplains are paid\, but many are volunteers\, giving perhaps just one afternoon a week. Some are ordained\, but many are lay people. You don’t have to be an expert in anything to be a chaplain. You don’t need to be a super confident evangelist. You just need to be able to come alongside other people where they are\, showing God’s love through your listening and your care. \nExploring Chaplaincy is a course for people who want to think about this often-overlooked ministry. Could it be for you? Might there be an opportunity to develop chaplaincy from your church\, in your parish? The course is both for people who are already involved in chaplaincy and also for those just beginning to consider the possibility. \n  \nThe six meetings of the course will cover: \n\n What is a chaplain? What is distinctive about chaplaincy\n Don’t just do something  The importance of presence\n The cloak of compassion  Pastoral care and being prophetic\nTwo ears and one mouth  Listing to people\, listening to place\n Say one for me  The spirituality of chaplaincy\n Where we you go from here?  First steps\, support\, and supervision\n\nThe course is free. \nIt will run from Wednesday 14 January to Wednesday 25 February (with a break on 18 February) between 7.15pm – 9.15pm\, meeting at Francis Close Hall in Cheltenham. \nTo access the booking form before 14 January please click here \nFor more information please contact Simon Witcombe switcombe@glos.ac.uk
URL:https://gloucester.anglican.org/event/exploring-chaplaincy-course-january/
LOCATION:Francis Close Hall Campus\, Francis Close Hall\, Cheltenham\, GL50 4UG\, United Kingdom
CATEGORIES:Children and Family ministry,CMD: Open to all,Curates,Developing Your Ministry,Stewardship and Giving,Worship & prayer,Youth Ministry
ORGANIZER;CN="Revd David Treharne":MAILTO:dtreharne@glosdioc.org.uk
END:VEVENT
END:VCALENDAR