BEGIN:VCALENDAR
VERSION:2.0
PRODID:-//Diocese of Gloucester - ECPv6.15.20//NONSGML v1.0//EN
CALSCALE:GREGORIAN
METHOD:PUBLISH
X-WR-CALNAME:Diocese of Gloucester
X-ORIGINAL-URL:https://gloucester.anglican.org
X-WR-CALDESC:Events for Diocese of Gloucester
REFRESH-INTERVAL;VALUE=DURATION:PT1H
X-Robots-Tag:noindex
X-PUBLISHED-TTL:PT1H
BEGIN:VTIMEZONE
TZID:Europe/London
BEGIN:DAYLIGHT
TZOFFSETFROM:+0000
TZOFFSETTO:+0100
TZNAME:BST
DTSTART:20250330T010000
END:DAYLIGHT
BEGIN:STANDARD
TZOFFSETFROM:+0100
TZOFFSETTO:+0000
TZNAME:GMT
DTSTART:20251026T010000
END:STANDARD
BEGIN:DAYLIGHT
TZOFFSETFROM:+0000
TZOFFSETTO:+0100
TZNAME:BST
DTSTART:20260329T010000
END:DAYLIGHT
BEGIN:STANDARD
TZOFFSETFROM:+0100
TZOFFSETTO:+0000
TZNAME:GMT
DTSTART:20261025T010000
END:STANDARD
BEGIN:DAYLIGHT
TZOFFSETFROM:+0000
TZOFFSETTO:+0100
TZNAME:BST
DTSTART:20270328T010000
END:DAYLIGHT
BEGIN:STANDARD
TZOFFSETFROM:+0100
TZOFFSETTO:+0000
TZNAME:GMT
DTSTART:20271031T010000
END:STANDARD
END:VTIMEZONE
BEGIN:VEVENT
DTSTART;TZID=Europe/London:20260129T130000
DTEND;TZID=Europe/London:20260129T160000
DTSTAMP:20260421T044559
CREATED:20260106T125848Z
LAST-MODIFIED:20260129T102550Z
UID:74310-1769691600-1769702400@gloucester.anglican.org
SUMMARY:Governors Introduction to a Church School
DESCRIPTION:Thursday 29 January 2026            1.00pm – 4.00pm \nNo cost to schools – for Governors and Trustees of CofE Schools. This is an introduction to the unique and privileged role governors and trustees hold in Church schools. We will explore the different types of Church schools and identify the different governance structures and the key documents that support and direct governance in Church schools. You will discover the importance of the role of governors and trustees in upholding the school’s or academy’s trust deed lived out through the school’s distinctive Christian vision. New this year: an A-Z of land and buildings. There will be opportunity for questions and networking. This is essential free training for all new to governance in a Church school and those who would welcome a refresher. Venue: Chapter Room\, Church House\, 5 Denmark Road\, Gloucester\, GL1 3HW \nPlease book here
URL:https://gloucester.anglican.org/event/governors-introduction-to-a-church-school-4/
LOCATION:Church House\, 5 Denmark Road\, Gloucester\, GL1 3HW\, 5 Denmark Road\, Gloucester\, Gloucestershire\, GL1 3HW\, United Kingdom
CATEGORIES:New to working in a church school,School governance,Schools
END:VEVENT
END:VCALENDAR