BEGIN:VCALENDAR
VERSION:2.0
PRODID:-//Diocese of Gloucester - ECPv6.15.20//NONSGML v1.0//EN
CALSCALE:GREGORIAN
METHOD:PUBLISH
X-ORIGINAL-URL:https://gloucester.anglican.org
X-WR-CALDESC:Events for Diocese of Gloucester
REFRESH-INTERVAL;VALUE=DURATION:PT1H
X-Robots-Tag:noindex
X-PUBLISHED-TTL:PT1H
BEGIN:VTIMEZONE
TZID:Europe/London
BEGIN:DAYLIGHT
TZOFFSETFROM:+0000
TZOFFSETTO:+0100
TZNAME:BST
DTSTART:20250330T010000
END:DAYLIGHT
BEGIN:STANDARD
TZOFFSETFROM:+0100
TZOFFSETTO:+0000
TZNAME:GMT
DTSTART:20251026T010000
END:STANDARD
BEGIN:DAYLIGHT
TZOFFSETFROM:+0000
TZOFFSETTO:+0100
TZNAME:BST
DTSTART:20260329T010000
END:DAYLIGHT
BEGIN:STANDARD
TZOFFSETFROM:+0100
TZOFFSETTO:+0000
TZNAME:GMT
DTSTART:20261025T010000
END:STANDARD
BEGIN:DAYLIGHT
TZOFFSETFROM:+0000
TZOFFSETTO:+0100
TZNAME:BST
DTSTART:20270328T010000
END:DAYLIGHT
BEGIN:STANDARD
TZOFFSETFROM:+0100
TZOFFSETTO:+0000
TZNAME:GMT
DTSTART:20271031T010000
END:STANDARD
END:VTIMEZONE
BEGIN:VEVENT
DTSTART;TZID=Europe/London:20260509T090000
DTEND;TZID=Europe/London:20260509T163000
DTSTAMP:20260420T030543
CREATED:20251010T095021Z
LAST-MODIFIED:20260324T101621Z
UID:72411-1778317200-1778344200@gloucester.anglican.org
SUMMARY:Safeguarding Conference: Courage to care\, Building safer worshipping communities together
DESCRIPTION:Safeguarding isn’t just a duty – it’s what helps our worshipping communities feel safe\, welcome\, and confident to take part in every aspect of community life. \n\n\n\nThis one-day gathering is for everyone who plays a part in that work: parish safeguarding officers\, clergy\, youth and children’s workers\, pastoral visitors\, and anyone who cares about creating safer spaces. \nOur keynote speaker\, Dr Lisa Oakley\, will open the day by exploring the sensitive and important issue of spiritual abuse. \nLed by the Diocesan Safeguarding Team and colleagues from mission and ministry\, the day will offer inspiring talks\, hands-on workshops\, and time to connect with local support services and each other. \nTo book on\, please complete the form below \nSafeguarding Conference Courage to Care  – Fill in form \nor for more information email safeguardingtraining@glosdioc.org.uk.
URL:https://gloucester.anglican.org/event/creating-safer-worshipping-communities/
LOCATION:All Saints Academy\, Blaisdon Way\, Cheltenham\, Gloucestershire\, GL51 0WH\, United Kingdom
CATEGORIES:Children and Family ministry,Developing Your Ministry,Leadership,Parish Safeguarding Officers,Safeguarding - open to all,Youth Ministry
END:VEVENT
END:VCALENDAR