BEGIN:VCALENDAR
VERSION:2.0
PRODID:-//Diocese of Gloucester - ECPv6.15.20//NONSGML v1.0//EN
CALSCALE:GREGORIAN
METHOD:PUBLISH
X-WR-CALNAME:Diocese of Gloucester
X-ORIGINAL-URL:https://gloucester.anglican.org
X-WR-CALDESC:Events for Diocese of Gloucester
REFRESH-INTERVAL;VALUE=DURATION:PT1H
X-Robots-Tag:noindex
X-PUBLISHED-TTL:PT1H
BEGIN:VTIMEZONE
TZID:Europe/London
BEGIN:DAYLIGHT
TZOFFSETFROM:+0000
TZOFFSETTO:+0100
TZNAME:BST
DTSTART:20250330T010000
END:DAYLIGHT
BEGIN:STANDARD
TZOFFSETFROM:+0100
TZOFFSETTO:+0000
TZNAME:GMT
DTSTART:20251026T010000
END:STANDARD
BEGIN:DAYLIGHT
TZOFFSETFROM:+0000
TZOFFSETTO:+0100
TZNAME:BST
DTSTART:20260329T010000
END:DAYLIGHT
BEGIN:STANDARD
TZOFFSETFROM:+0100
TZOFFSETTO:+0000
TZNAME:GMT
DTSTART:20261025T010000
END:STANDARD
BEGIN:DAYLIGHT
TZOFFSETFROM:+0000
TZOFFSETTO:+0100
TZNAME:BST
DTSTART:20270328T010000
END:DAYLIGHT
BEGIN:STANDARD
TZOFFSETFROM:+0100
TZOFFSETTO:+0000
TZNAME:GMT
DTSTART:20271031T010000
END:STANDARD
END:VTIMEZONE
BEGIN:VEVENT
DTSTART;TZID=Europe/London:20260309T160000
DTEND;TZID=Europe/London:20260309T170000
DTSTAMP:20260421T223642
CREATED:20260106T130810Z
LAST-MODIFIED:20260106T130810Z
UID:74316-1773072000-1773075600@gloucester.anglican.org
SUMMARY:Online RE Support Meetings
DESCRIPTION:Monday 9 March 2026   4.00pm-5.00pm \nFor RE subject leaders\, RE teachers. During this academic year the new Gloucestershire Agreed Syllabus for RE is being rolled out. These online meetings will support subject leaders and class teachers as they begin to use the new religion and worldwide approach. Cost per school for access to all 6 sessions: £50.00 \nPlease book here
URL:https://gloucester.anglican.org/event/online-re-support-meetings-2/
LOCATION:Online
CATEGORIES:New to working in a church school,Schools
END:VEVENT
END:VCALENDAR