BEGIN:VCALENDAR
VERSION:2.0
PRODID:-//Diocese of Gloucester - ECPv6.15.20//NONSGML v1.0//EN
CALSCALE:GREGORIAN
METHOD:PUBLISH
X-WR-CALNAME:Diocese of Gloucester
X-ORIGINAL-URL:https://gloucester.anglican.org
X-WR-CALDESC:Events for Diocese of Gloucester
REFRESH-INTERVAL;VALUE=DURATION:PT1H
X-Robots-Tag:noindex
X-PUBLISHED-TTL:PT1H
BEGIN:VTIMEZONE
TZID:Europe/London
BEGIN:DAYLIGHT
TZOFFSETFROM:+0000
TZOFFSETTO:+0100
TZNAME:BST
DTSTART:20240331T010000
END:DAYLIGHT
BEGIN:STANDARD
TZOFFSETFROM:+0100
TZOFFSETTO:+0000
TZNAME:GMT
DTSTART:20241027T010000
END:STANDARD
BEGIN:DAYLIGHT
TZOFFSETFROM:+0000
TZOFFSETTO:+0100
TZNAME:BST
DTSTART:20250330T010000
END:DAYLIGHT
BEGIN:STANDARD
TZOFFSETFROM:+0100
TZOFFSETTO:+0000
TZNAME:GMT
DTSTART:20251026T010000
END:STANDARD
BEGIN:DAYLIGHT
TZOFFSETFROM:+0000
TZOFFSETTO:+0100
TZNAME:BST
DTSTART:20260329T010000
END:DAYLIGHT
BEGIN:STANDARD
TZOFFSETFROM:+0100
TZOFFSETTO:+0000
TZNAME:GMT
DTSTART:20261025T010000
END:STANDARD
END:VTIMEZONE
BEGIN:VEVENT
DTSTART;TZID=Europe/London:20250712T090000
DTEND;TZID=Europe/London:20250712T163000
DTSTAMP:20260421T154003
CREATED:20240124T085159Z
LAST-MODIFIED:20250326T161321Z
UID:57718-1752310800-1752337800@gloucester.anglican.org
SUMMARY:Bereavement Visitor Training Course
DESCRIPTION:Saturday 12 July and Wednesday 16 July 2025 (Wednesday 5.00pm – 8.00pm) \n@ 9.00am – 4.30pm in Committee Room. College Green. Gloucester. GL1 2LY \nThis free course is for lay church members wishing to be locally commissioned for Bereavement Ministry. Also suitable for Readers or Ordained Ministers wishing to refresh their knowledge about Bereavement Ministry. \nCourse Leader  – Nick Partridge\, Diocese of Gloucester Funeral Lead and Interim Warden of Readers\nNick Partridge manages Diocese of Gloucester Funerals\, its development and growth\, Funeral & Bereavement Ministry training. \nIf you would like more information about the course\, please contact Nick Partridge: npartridge@glosdioc.org.uk \nIf you would like to register for this course\, please talk with your incumbent first and then register by clicking here \n  \nBOOK NOW\n\n 
URL:https://gloucester.anglican.org/event/funeral-bereavement-ministry-training-3/
LOCATION:Committee Room\, Church House\, GLOUCESTER\, Gloucestershire\, GL1 2LY
CATEGORIES:CMD: Clergy,CMD: Open to all,CMD: Readers,Developing Your Ministry
ORGANIZER;CN="Nick Partridge":MAILTO:npartridge@glosdioc.org.uk
END:VEVENT
BEGIN:VEVENT
DTSTART;TZID=Europe/London:20250716T170000
DTEND;TZID=Europe/London:20250716T200000
DTSTAMP:20260421T154003
CREATED:20250327T121652Z
LAST-MODIFIED:20250416T114705Z
UID:67633-1752685200-1752696000@gloucester.anglican.org
SUMMARY:Children and Bereavement Training Course
DESCRIPTION:Wednesday 16 July 2025 @ 5.00pm – 8.00pm  Committee Room. College Green. Gloucester. GL1 2LY \nThis free course is suitable for lay church members\, Readers and Ordained Ministers wishing to gain further understanding of children and bereavement.    An interactive session looking at aspects of grief at different ages and how to support children in grief. \nCourse Leader  – Rev Canon Joanne Wetherall\, Senior Children & Families Connector \nIf you would like more information about the course\, please contact Jo Wetherall: jwetherall@glosdioc.org.uk \nIf you would like to register for this course\, please click below \n  \n\nBOOK HERE\n\n\n 
URL:https://gloucester.anglican.org/event/funeral-bereavement-ministry-training-3-2/
LOCATION:Committee Room\, Church House\, GLOUCESTER\, Gloucestershire\, GL1 2LY
CATEGORIES:Children and Family ministry,CMD: Clergy,CMD: Open to all,Curates,Worship & prayer,Youth Ministry
END:VEVENT
END:VCALENDAR