BEGIN:VCALENDAR
VERSION:2.0
PRODID:-//Diocese of Gloucester - ECPv6.15.20//NONSGML v1.0//EN
CALSCALE:GREGORIAN
METHOD:PUBLISH
X-WR-CALNAME:Diocese of Gloucester
X-ORIGINAL-URL:https://gloucester.anglican.org
X-WR-CALDESC:Events for Diocese of Gloucester
REFRESH-INTERVAL;VALUE=DURATION:PT1H
X-Robots-Tag:noindex
X-PUBLISHED-TTL:PT1H
BEGIN:VTIMEZONE
TZID:Europe/London
BEGIN:DAYLIGHT
TZOFFSETFROM:+0000
TZOFFSETTO:+0100
TZNAME:BST
DTSTART:20250330T010000
END:DAYLIGHT
BEGIN:STANDARD
TZOFFSETFROM:+0100
TZOFFSETTO:+0000
TZNAME:GMT
DTSTART:20251026T010000
END:STANDARD
BEGIN:DAYLIGHT
TZOFFSETFROM:+0000
TZOFFSETTO:+0100
TZNAME:BST
DTSTART:20260329T010000
END:DAYLIGHT
BEGIN:STANDARD
TZOFFSETFROM:+0100
TZOFFSETTO:+0000
TZNAME:GMT
DTSTART:20261025T010000
END:STANDARD
BEGIN:DAYLIGHT
TZOFFSETFROM:+0000
TZOFFSETTO:+0100
TZNAME:BST
DTSTART:20270328T010000
END:DAYLIGHT
BEGIN:STANDARD
TZOFFSETFROM:+0100
TZOFFSETTO:+0000
TZNAME:GMT
DTSTART:20271031T010000
END:STANDARD
END:VTIMEZONE
BEGIN:VEVENT
DTSTART;TZID=Europe/London:20260202T130000
DTEND;TZID=Europe/London:20260202T140000
DTSTAMP:20260421T221352
CREATED:20260112T112633Z
LAST-MODIFIED:20260112T112820Z
UID:74388-1770037200-1770040800@gloucester.anglican.org
SUMMARY:Open the Gospel Learning Community
DESCRIPTION:Do you sometimes read the Gospel for this coming Sunday and wonder what new perspective you might find? \n \nWould you value space to wrestle with the text with other\, faithful people? Could you benefit from help thinking through how to connect with all generations through your preaching? \nIf you sometimes feel isolated\, uninspired and like you’d benefit from a sounding board as you prepare to preach\, we are here for you! \nOpen the Gospel is an online learning community of preachers\, lay and ordained\, where each week on a Monday we will engage with the Gospel reading for the coming Sunday from different perspectives. \nIt is a space to listen and learn from one another and\, in the process\, create recorded resources that can be accessed at any time and used in services where a preacher is not available. \nTo join the conversation at 1pm please click here \n 
URL:https://gloucester.anglican.org/event/open-the-gospel-260202/
LOCATION:Online event
CATEGORIES:Children and Family ministry,CMD: Clergy,CMD: Open to all,CMD: Readers,Developing Your Ministry,Everyday Faith,Worship & prayer
ORGANIZER;CN="Revd Kate Stacey":MAILTO:kstacey@glosdioc.org.uk
END:VEVENT
BEGIN:VEVENT
DTSTART;TZID=Europe/London:20260209T130000
DTEND;TZID=Europe/London:20260209T140000
DTSTAMP:20260421T221352
CREATED:20260112T112940Z
LAST-MODIFIED:20260112T112940Z
UID:74391-1770642000-1770645600@gloucester.anglican.org
SUMMARY:Open the Gospel Learning Community
DESCRIPTION:Do you sometimes read the Gospel for this coming Sunday and wonder what new perspective you might find? \n \nWould you value space to wrestle with the text with other\, faithful people? Could you benefit from help thinking through how to connect with all generations through your preaching? \nIf you sometimes feel isolated\, uninspired and like you’d benefit from a sounding board as you prepare to preach\, we are here for you! \nOpen the Gospel is an online learning community of preachers\, lay and ordained\, where each week on a Monday we will engage with the Gospel reading for the coming Sunday from different perspectives. \nIt is a space to listen and learn from one another and\, in the process\, create recorded resources that can be accessed at any time and used in services where a preacher is not available. \nTo join the conversation at 1pm please click here \n 
URL:https://gloucester.anglican.org/event/open-the-gospel-260209/
LOCATION:Online event
CATEGORIES:Children and Family ministry,CMD: Clergy,CMD: Open to all,CMD: Readers,Developing Your Ministry,Everyday Faith,Worship & prayer
ORGANIZER;CN="Revd Kate Stacey":MAILTO:kstacey@glosdioc.org.uk
END:VEVENT
BEGIN:VEVENT
DTSTART;TZID=Europe/London:20260216T130000
DTEND;TZID=Europe/London:20260216T140000
DTSTAMP:20260421T221352
CREATED:20260112T112958Z
LAST-MODIFIED:20260112T112958Z
UID:74390-1771246800-1771250400@gloucester.anglican.org
SUMMARY:Open the Gospel Learning Community
DESCRIPTION:Do you sometimes read the Gospel for this coming Sunday and wonder what new perspective you might find? \n \nWould you value space to wrestle with the text with other\, faithful people? Could you benefit from help thinking through how to connect with all generations through your preaching? \nIf you sometimes feel isolated\, uninspired and like you’d benefit from a sounding board as you prepare to preach\, we are here for you! \nOpen the Gospel is an online learning community of preachers\, lay and ordained\, where each week on a Monday we will engage with the Gospel reading for the coming Sunday from different perspectives. \nIt is a space to listen and learn from one another and\, in the process\, create recorded resources that can be accessed at any time and used in services where a preacher is not available. \nTo join the conversation at 1pm please click here \n 
URL:https://gloucester.anglican.org/event/open-the-gospel-260216/
LOCATION:Online event
CATEGORIES:Children and Family ministry,CMD: Clergy,CMD: Open to all,CMD: Readers,Developing Your Ministry,Everyday Faith,Worship & prayer
ORGANIZER;CN="Revd Kate Stacey":MAILTO:kstacey@glosdioc.org.uk
END:VEVENT
BEGIN:VEVENT
DTSTART;TZID=Europe/London:20260223T130000
DTEND;TZID=Europe/London:20260223T140000
DTSTAMP:20260421T221352
CREATED:20260112T113014Z
LAST-MODIFIED:20260112T113014Z
UID:74389-1771851600-1771855200@gloucester.anglican.org
SUMMARY:Open the Gospel Learning Community
DESCRIPTION:Do you sometimes read the Gospel for this coming Sunday and wonder what new perspective you might find? \n \nWould you value space to wrestle with the text with other\, faithful people? Could you benefit from help thinking through how to connect with all generations through your preaching? \nIf you sometimes feel isolated\, uninspired and like you’d benefit from a sounding board as you prepare to preach\, we are here for you! \nOpen the Gospel is an online learning community of preachers\, lay and ordained\, where each week on a Monday we will engage with the Gospel reading for the coming Sunday from different perspectives. \nIt is a space to listen and learn from one another and\, in the process\, create recorded resources that can be accessed at any time and used in services where a preacher is not available. \nTo join the conversation at 1pm please click here \n 
URL:https://gloucester.anglican.org/event/open-the-gospel-260223/
LOCATION:Online event
CATEGORIES:Children and Family ministry,CMD: Clergy,CMD: Open to all,CMD: Readers,Developing Your Ministry,Everyday Faith,Worship & prayer
ORGANIZER;CN="Revd Kate Stacey":MAILTO:kstacey@glosdioc.org.uk
END:VEVENT
END:VCALENDAR