BEGIN:VCALENDAR
VERSION:2.0
PRODID:-//Diocese of Gloucester - ECPv6.15.20//NONSGML v1.0//EN
CALSCALE:GREGORIAN
METHOD:PUBLISH
X-ORIGINAL-URL:https://gloucester.anglican.org
X-WR-CALDESC:Events for Diocese of Gloucester
REFRESH-INTERVAL;VALUE=DURATION:PT1H
X-Robots-Tag:noindex
X-PUBLISHED-TTL:PT1H
BEGIN:VTIMEZONE
TZID:Europe/London
BEGIN:DAYLIGHT
TZOFFSETFROM:+0000
TZOFFSETTO:+0100
TZNAME:BST
DTSTART:20250330T010000
END:DAYLIGHT
BEGIN:STANDARD
TZOFFSETFROM:+0100
TZOFFSETTO:+0000
TZNAME:GMT
DTSTART:20251026T010000
END:STANDARD
BEGIN:DAYLIGHT
TZOFFSETFROM:+0000
TZOFFSETTO:+0100
TZNAME:BST
DTSTART:20260329T010000
END:DAYLIGHT
BEGIN:STANDARD
TZOFFSETFROM:+0100
TZOFFSETTO:+0000
TZNAME:GMT
DTSTART:20261025T010000
END:STANDARD
BEGIN:DAYLIGHT
TZOFFSETFROM:+0000
TZOFFSETTO:+0100
TZNAME:BST
DTSTART:20270328T010000
END:DAYLIGHT
BEGIN:STANDARD
TZOFFSETFROM:+0100
TZOFFSETTO:+0000
TZNAME:GMT
DTSTART:20271031T010000
END:STANDARD
END:VTIMEZONE
BEGIN:VEVENT
DTSTART;TZID=Europe/London:20260310T110000
DTEND;TZID=Europe/London:20260310T120000
DTSTAMP:20260425T180238
CREATED:20260202T103529Z
LAST-MODIFIED:20260202T103615Z
UID:75151-1773140400-1773144000@gloucester.anglican.org
SUMMARY:Cheltenham Youth Ministry Connect
DESCRIPTION:For Christian faith inspired youth workers and key volunteers in Cheltenham and the surrounding area. \nCheltenham Youth Connect is an opportunity to meet regularly to chat\, share ideas\, pray and look at how we can work together. Most importantly\, it is an opportunity to look at how we might bring young people together in this location. \nThere is no need to book your place to attend these sessions. \n Barrie Voyce – Barrie leads the growing network of deanery youth connectors\, enabling and equipping effective youth ministry across the diocese.
URL:https://gloucester.anglican.org/event/cheltenham-youth-ministry-connect-march-2026/
LOCATION:School House Cafe\, GL50 4EZ
CATEGORIES:Children and Family ministry,CMD: Open to all,Developing Your Ministry,Youth Ministry
ORGANIZER;CN="Barrie Voyce":MAILTO:bvoyce@glosdioc.org.uk
END:VEVENT
END:VCALENDAR