BEGIN:VCALENDAR
VERSION:2.0
PRODID:-//Diocese of Gloucester - ECPv6.15.20//NONSGML v1.0//EN
CALSCALE:GREGORIAN
METHOD:PUBLISH
X-ORIGINAL-URL:https://gloucester.anglican.org
X-WR-CALDESC:Events for Diocese of Gloucester
REFRESH-INTERVAL;VALUE=DURATION:PT1H
X-Robots-Tag:noindex
X-PUBLISHED-TTL:PT1H
BEGIN:VTIMEZONE
TZID:Europe/London
BEGIN:DAYLIGHT
TZOFFSETFROM:+0000
TZOFFSETTO:+0100
TZNAME:BST
DTSTART:20250330T010000
END:DAYLIGHT
BEGIN:STANDARD
TZOFFSETFROM:+0100
TZOFFSETTO:+0000
TZNAME:GMT
DTSTART:20251026T010000
END:STANDARD
BEGIN:DAYLIGHT
TZOFFSETFROM:+0000
TZOFFSETTO:+0100
TZNAME:BST
DTSTART:20260329T010000
END:DAYLIGHT
BEGIN:STANDARD
TZOFFSETFROM:+0100
TZOFFSETTO:+0000
TZNAME:GMT
DTSTART:20261025T010000
END:STANDARD
BEGIN:DAYLIGHT
TZOFFSETFROM:+0000
TZOFFSETTO:+0100
TZNAME:BST
DTSTART:20270328T010000
END:DAYLIGHT
BEGIN:STANDARD
TZOFFSETFROM:+0100
TZOFFSETTO:+0000
TZNAME:GMT
DTSTART:20271031T010000
END:STANDARD
END:VTIMEZONE
BEGIN:VEVENT
DTSTART;TZID=Europe/London:20260606T100000
DTEND;TZID=Europe/London:20260606T160000
DTSTAMP:20260424T134034
CREATED:20251120T142030Z
LAST-MODIFIED:20260226T151431Z
UID:73385-1780740000-1780761600@gloucester.anglican.org
SUMMARY:Getting Started & Keeping Going - Youth Ministry
DESCRIPTION:Getting started or keeping going? \nWhether you are just dipping your toe in or have suddenly found yourself in the deep end of Youth ministry come and join us for a thoroughly practical day learning with and from each other. This will include planning sessions\, tips to manage groups\, praying\, worship\, games\, ice breakers\, Bible study and empowering young leaders. \nClick here to book your place. \nThis event will be led by Barrie Voyce and Amy Todd. \n \nBarrie Voyce\, Senior Youth Connector \nBarrie leads the growing network of deanery youth connectors\, enabling and equipping effective youth ministry across the diocese. \n  \n  \nAmy Todd\, North Deaneries Youth Connector  \nAmy is the Youth Connector for the North Deaneries\, working in the Deanery and wider Diocese to enable young people to experience ‘life in all its fullness.’
URL:https://gloucester.anglican.org/event/getting-started-keeping-going-youth/
LOCATION:St Barnabas Church\, Cheltenham\, Orchard Way\, GL51 7JY
CATEGORIES:CMD: Open to all,Developing Your Ministry,Youth Ministry
ORGANIZER;CN="Barrie Voyce":MAILTO:bvoyce@glosdioc.org.uk
END:VEVENT
BEGIN:VEVENT
DTSTART;TZID=Europe/London:20260616T110000
DTEND;TZID=Europe/London:20260616T160000
DTSTAMP:20260424T134034
CREATED:20260302T131407Z
LAST-MODIFIED:20260330T075013Z
UID:76082-1781607600-1781625600@gloucester.anglican.org
SUMMARY:Stewardship and Giving: Forest South - Deanery drop-in
DESCRIPTION:No need to sign up\, just drop in anytime to discuss any stewardship and giving issues over a cuppa!  \n\nFurther dates for your diary… \nCirencester – Thursday 25 June – The Long Table\, Cirencester \nSevern Vale – Thursday 16 July – Manna House Café\, Newent \nTewkesbury & Winchcombe – Tuesday 15 September – The Tipsy Egg\, Winchcombe \nGloucester City – Tuesday 22 September – The Clementine Café\, Gloucester \n  \nLisa- Jayne Lewis – Stewardship and Giving Advisor \nLisa-Jayne helps church leaders to think about how they can preach and teach about money\, how churches can find ways to increase their income\, find grants and think about regular giving and  financial stewardship as part of our Christian discipleship.
URL:https://gloucester.anglican.org/event/deanery-drop-in-16-june/
LOCATION:The Colliery Cafe\, Braodwell\, GL16 7EG\, United Kingdom
CATEGORIES:CMD: Open to all,Developing Your Ministry,Stewardship and Giving
ORGANIZER;CN="Lisa-Jane Lewis":MAILTO:llewis@glosdioc.org.uk
END:VEVENT
BEGIN:VEVENT
DTSTART;TZID=Europe/London:20260620T100000
DTEND;TZID=Europe/London:20260620T160000
DTSTAMP:20260424T134034
CREATED:20251120T144639Z
LAST-MODIFIED:20260318T122804Z
UID:73397-1781949600-1781971200@gloucester.anglican.org
SUMMARY:Faith and Finance – a financial wellbeing conference
DESCRIPTION:‘Faith and finance’ is designed to help us think more clearly\, confidently\, and faithfully about money\, in our personal lives\, our households\, and our wider communities. We want to help people grow in financial literacy not only for their own wellbeing and that of their loved ones\, but also so we can make choices that contribute to the common good; choices rooted in Christian hope\, compassion\, and wisdom. \nA wide range of practical and ethical topics will be explored with expert speakers\, including: \nPensions and planning for the future\nInvestments and ethical decision-making\nLegacy and will writing\nEthical personal banking\nTalking to children about money\nTools for everyday money management \n\n\nThis is a day for everyone\, not just treasurers or church leaders\, but for anyone who wants to understand their finances more clearly and make decisions that align with their Christian values. Whether you’re feeling confident\, worried\, curious or simply ready to learn\, you will be warmly welcomed. ‘Faith and Finance’ is a chance to explore what money means to us as part of our Christian faith and also take away some personal action points that we can implement in our own daily lives. \n\nLunch and refreshments will be included. \nFull booking details will be released soon\, but for now we encourage you to save the date: Saturday 30 June\, from 10am to 4pm at St Andrew’s Church\, Churchdown. \n  \nLisa- Jayne Lewis – Stewardship and Giving Advisor \nLisa-Jayne helps church leaders to think about how they can preach and teach about money\, how churches can find ways to increase their income\, find grants and think about regular giving and  financial stewardship as part of our Christian discipleship.
URL:https://gloucester.anglican.org/event/faith-and-finance/
LOCATION:St Andrews\, Churchdown\, Churchdown\, Gloucester\, GL3 2JT
CATEGORIES:CMD: Open to all,Developing Your Ministry,Stewardship and Giving
ORGANIZER;CN="Lisa-Jane Lewis":MAILTO:llewis@glosdioc.org.uk
END:VEVENT
BEGIN:VEVENT
DTSTART;TZID=Europe/London:20260624T190000
DTEND;TZID=Europe/London:20260624T200000
DTSTAMP:20260424T134034
CREATED:20260223T115820Z
LAST-MODIFIED:20260223T115956Z
UID:75867-1782327600-1782331200@gloucester.anglican.org
SUMMARY:Pray For Schools
DESCRIPTION:Do you pray for your child’s school? \nAre you a teacher\, praying for your school? \nCome along and meet others who pray for our schools. \nThe evening will provide an opportunity to meet other people praying for your school and network with other groups. \nRefreshments provided. \nVenue TBC. \nContact Jonathan@togetherforyouth.co.uk.
URL:https://gloucester.anglican.org/event/pray-for-schools-june-2026/
CATEGORIES:Children and Family ministry,Schools,Youth Ministry
END:VEVENT
BEGIN:VEVENT
DTSTART;TZID=Europe/London:20260625T110000
DTEND;TZID=Europe/London:20260625T160000
DTSTAMP:20260424T134034
CREATED:20260302T131616Z
LAST-MODIFIED:20260330T075019Z
UID:76086-1782385200-1782403200@gloucester.anglican.org
SUMMARY:Stewardship and Giving: Cirencester - Deanery drop-in
DESCRIPTION:No need to sign up\, just drop in anytime to discuss any stewardship and giving issues over a cuppa!  \n\nFurther dates for your diary… \nSevern Vale – Thursday 16 July – Manna House Café\, Newent \nTewkesbury & Winchcombe – Tuesday 15 September – The Tipsy Egg\, Winchcombe \nGloucester City – Tuesday 22 September – The Clementine Café\, Gloucester \n  \nLisa- Jayne Lewis – Stewardship and Giving Advisor \nLisa-Jayne helps church leaders to think about how they can preach and teach about money\, how churches can find ways to increase their income\, find grants and think about regular giving and  financial stewardship as part of our Christian discipleship.
URL:https://gloucester.anglican.org/event/deanery-drop-in-25-june/
LOCATION:The Long Table\, Cirencester\, Market Pl\, Cirencester\, GL7 2NX
CATEGORIES:CMD: Open to all,Developing Your Ministry,Stewardship and Giving
ORGANIZER;CN="Lisa-Jane Lewis":MAILTO:llewis@glosdioc.org.uk
END:VEVENT
END:VCALENDAR