BEGIN:VCALENDAR
VERSION:2.0
PRODID:-//Diocese of Gloucester - ECPv6.15.20//NONSGML v1.0//EN
CALSCALE:GREGORIAN
METHOD:PUBLISH
X-WR-CALNAME:Diocese of Gloucester
X-ORIGINAL-URL:https://gloucester.anglican.org
X-WR-CALDESC:Events for Diocese of Gloucester
REFRESH-INTERVAL;VALUE=DURATION:PT1H
X-Robots-Tag:noindex
X-PUBLISHED-TTL:PT1H
BEGIN:VTIMEZONE
TZID:Europe/London
BEGIN:DAYLIGHT
TZOFFSETFROM:+0000
TZOFFSETTO:+0100
TZNAME:BST
DTSTART:20250330T010000
END:DAYLIGHT
BEGIN:STANDARD
TZOFFSETFROM:+0100
TZOFFSETTO:+0000
TZNAME:GMT
DTSTART:20251026T010000
END:STANDARD
BEGIN:DAYLIGHT
TZOFFSETFROM:+0000
TZOFFSETTO:+0100
TZNAME:BST
DTSTART:20260329T010000
END:DAYLIGHT
BEGIN:STANDARD
TZOFFSETFROM:+0100
TZOFFSETTO:+0000
TZNAME:GMT
DTSTART:20261025T010000
END:STANDARD
BEGIN:DAYLIGHT
TZOFFSETFROM:+0000
TZOFFSETTO:+0100
TZNAME:BST
DTSTART:20270328T010000
END:DAYLIGHT
BEGIN:STANDARD
TZOFFSETFROM:+0100
TZOFFSETTO:+0000
TZNAME:GMT
DTSTART:20271031T010000
END:STANDARD
END:VTIMEZONE
BEGIN:VEVENT
DTSTART;TZID=Europe/London:20260512T153000
DTEND;TZID=Europe/London:20260512T163000
DTSTAMP:20260424T224708
CREATED:20260106T130040Z
LAST-MODIFIED:20260417T083153Z
UID:74312-1778599800-1778603400@gloucester.anglican.org
SUMMARY:Climate Action Plans
DESCRIPTION:New Sessions available\nTuesday 12 May – Session 1 – 3.30-4.30pm – Online \nTuesday 23 June– Session 2 – 3.30-5.00pm – Online \nNo cost to schools – for headteachers and school sustainability leads. Please book a session 1 and a session 2 from the same term on the booking form. The government has stated for over 2 years that all schools will have a climate action plan by 2025. This is a very strong steer from the DfE. By attending this free training\, it will support you to write an action plan\, save you money through energy efficiencies\, support courageous advocacy in SIAMS and allow your school to support the sustainability agenda. Hosted by the Diocesan Education team and led by Climate Advisors\, these sessions are to support schools with climate action planning. Learn how to baseline your carbon in the first session and by the end of the second session we will ensure you have a fantastic Climate Action Plan. Let’s Go Zero can also deliver Carbon Literacy training and can help to signpost funding. All sessions will be held online. \nPlease book here \nThis event was previously held: \nThursday 29 January 2026– Session 1 – 3.30pm-4.30pm – Online \nThursday 19 March 2026– Session 2 – 3.30pm-5.00pm – Online
URL:https://gloucester.anglican.org/event/climate-action-plans/
LOCATION:Online
CATEGORIES:Schools
END:VEVENT
END:VCALENDAR