BEGIN:VCALENDAR
VERSION:2.0
PRODID:-//Diocese of Gloucester - ECPv6.15.20//NONSGML v1.0//EN
CALSCALE:GREGORIAN
METHOD:PUBLISH
X-ORIGINAL-URL:https://gloucester.anglican.org
X-WR-CALDESC:Events for Diocese of Gloucester
REFRESH-INTERVAL;VALUE=DURATION:PT1H
X-Robots-Tag:noindex
X-PUBLISHED-TTL:PT1H
BEGIN:VTIMEZONE
TZID:Europe/London
BEGIN:DAYLIGHT
TZOFFSETFROM:+0000
TZOFFSETTO:+0100
TZNAME:BST
DTSTART:20250330T010000
END:DAYLIGHT
BEGIN:STANDARD
TZOFFSETFROM:+0100
TZOFFSETTO:+0000
TZNAME:GMT
DTSTART:20251026T010000
END:STANDARD
BEGIN:DAYLIGHT
TZOFFSETFROM:+0000
TZOFFSETTO:+0100
TZNAME:BST
DTSTART:20260329T010000
END:DAYLIGHT
BEGIN:STANDARD
TZOFFSETFROM:+0100
TZOFFSETTO:+0000
TZNAME:GMT
DTSTART:20261025T010000
END:STANDARD
BEGIN:DAYLIGHT
TZOFFSETFROM:+0000
TZOFFSETTO:+0100
TZNAME:BST
DTSTART:20270328T010000
END:DAYLIGHT
BEGIN:STANDARD
TZOFFSETFROM:+0100
TZOFFSETTO:+0000
TZNAME:GMT
DTSTART:20271031T010000
END:STANDARD
BEGIN:DAYLIGHT
TZOFFSETFROM:+0000
TZOFFSETTO:+0100
TZNAME:BST
DTSTART:20280326T010000
END:DAYLIGHT
BEGIN:STANDARD
TZOFFSETFROM:+0100
TZOFFSETTO:+0000
TZNAME:GMT
DTSTART:20281029T010000
END:STANDARD
END:VTIMEZONE
BEGIN:VEVENT
DTSTART;TZID=Europe/London:20260704T190000
DTEND;TZID=Europe/London:20260704T210000
DTSTAMP:20260419T162851
CREATED:20260223T112652Z
LAST-MODIFIED:20260223T112652Z
UID:75828-1783191600-1783198800@gloucester.anglican.org
SUMMARY:Branch Youth Worship
DESCRIPTION:A Monthly Youth Worship Event for secondary school aged young people. \nBranch Youth Worship Event – For all in secondary education\, bring vibrant worship and challenging message to young people wanting to grow in their faith.  \nHosted by The Community Church\, Cinderford. Branch is a free inter-church event. \nIt is self funded and comes under the ministry of The Community Church for safeguarding\, public liability and accountability. \nFor more information\, please contact: branchyouthworshipevent@gmail.com
URL:https://gloucester.anglican.org/event/branch-youth-worship-july-2026/
LOCATION:The Community Church\, Cinderford\, GL14 2PQ\, United Kingdom
CATEGORIES:Children and Family ministry,Worship & prayer,Youth Ministry
END:VEVENT
BEGIN:VEVENT
DTSTART;TZID=Europe/London:20260708T090000
DTEND;TZID=Europe/London:20260708T163000
DTSTAMP:20260419T162851
CREATED:20260312T140305Z
LAST-MODIFIED:20260312T163316Z
UID:76356-1783501200-1783528200@gloucester.anglican.org
SUMMARY:New Deacons & New TI Induction Day
DESCRIPTION:For new Deacons and new Training Incumbents only
URL:https://gloucester.anglican.org/event/new-deacons-new-ti-induction-day/
LOCATION:Church House\, 5 Denmark Road\, Gloucester\, GL1 3HW\, 5 Denmark Road\, Gloucester\, Gloucestershire\, GL1 3HW\, United Kingdom
CATEGORIES:Curates
ORGANIZER;CN="Revd David Treharne":MAILTO:dtreharne@glosdioc.org.uk
END:VEVENT
BEGIN:VEVENT
DTSTART;TZID=Europe/London:20260711T083000
DTEND;TZID=Europe/London:20260711T093000
DTSTAMP:20260419T162851
CREATED:20260223T114852Z
LAST-MODIFIED:20260223T114852Z
UID:75836-1783758600-1783762200@gloucester.anglican.org
SUMMARY:Pray for Youth and Children - Forest of Dean
DESCRIPTION:Praying for children and young people to know Jesus. \nA monthly Forest of Dean wide prayer breakfast meeting. Open for all to network\, support and pray. \nOrganised by Together for Youth partnering with The Community Family Minister\, and Churches Together in Lydney. \nContact youth.childrenprayerbreakfast@gmail.com for more information or to register your interest.
URL:https://gloucester.anglican.org/event/pray-for-youth-and-children-forest-of-dean-july-26/
LOCATION:St Mary’s Lydney\, GL15 5TL\, United Kingdom
CATEGORIES:Children and Family ministry,Worship & prayer,Youth Ministry
END:VEVENT
BEGIN:VEVENT
DTSTART;TZID=Europe/London:20260715T190000
DTEND;TZID=Europe/London:20260715T203000
DTSTAMP:20260419T162851
CREATED:20251202T113626Z
LAST-MODIFIED:20251202T113626Z
UID:73637-1784142000-1784147400@gloucester.anglican.org
SUMMARY:Safeguarding Support Forum
DESCRIPTION:These in-person sessions are intended for PSOs\, and for anyone else involved in safeguarding leadership in their parish/benefice. Across the year\, several sessions are being offered in different locations in the Diocese\, with the aim of making them as accessible as possible. These sessions are not training\, but an opportunity to connect and network with other PSOs\, to receive safeguarding updates from the Diocesan Team\, and to come with any questions/concerns about your role and safeguarding in your parish/benefice. Full details can be found in the poster linked below. \nIf you plan to attend a session\, please click below to send us an email letting us know. This enables us to best prepare the sessions we are providing. We look forward to seeing you at one of the forums! \nThis event will be help in the Porch Room at Minchinhampton Parish Church\, Bell LaneMinchinhamptonStroudGL6 9BW \nTo book a place please email  ku.gro.coidsolg@gniniartgnidraugefas
URL:https://gloucester.anglican.org/event/safeguarding-support-forum-4/
LOCATION:Minchinhampton Porch Rooms\, Bell Lane\, Minchinhampton\, GL6 9BW
CATEGORIES:Leadership,Parish Safeguarding Officers,Safeguarding - open to all
END:VEVENT
BEGIN:VEVENT
DTSTART;TZID=Europe/London:20260716T110000
DTEND;TZID=Europe/London:20260716T160000
DTSTAMP:20260419T162851
CREATED:20260302T132052Z
LAST-MODIFIED:20260330T075024Z
UID:76090-1784199600-1784217600@gloucester.anglican.org
SUMMARY:Stewardship and Giving: Severn Vale - Deanery drop-in
DESCRIPTION:No need to sign up\, just drop in anytime to discuss any stewardship and giving issues over a cuppa!  \n\nFurther dates for your diary… \nTewkesbury & Winchcombe – Tuesday 15 September – The Tipsy Egg\, Winchcombe \nGloucester City – Tuesday 22 September – The Clementine Café\, Gloucester \n  \nLisa- Jayne Lewis – Stewardship and Giving Advisor \nLisa-Jayne helps church leaders to think about how they can preach and teach about money\, how churches can find ways to increase their income\, find grants and think about regular giving and  financial stewardship as part of our Christian discipleship.
URL:https://gloucester.anglican.org/event/deanery-drop-in-16-july/
LOCATION:Manna House Cafe\, 12 Broad Street\, Newent\, GL18 1AH\, United Kingdom
CATEGORIES:CMD: Open to all,Developing Your Ministry,Stewardship and Giving
ORGANIZER;CN="Lisa-Jane Lewis":MAILTO:llewis@glosdioc.org.uk
END:VEVENT
BEGIN:VEVENT
DTSTART;TZID=Europe/London:20260718T170000
DTEND;TZID=Europe/London:20260718T190000
DTSTAMP:20260419T162851
CREATED:20260223T115455Z
LAST-MODIFIED:20260223T115455Z
UID:75864-1784394000-1784401200@gloucester.anglican.org
SUMMARY:X:Site Forest of Dean
DESCRIPTION:X:site (The place of the Cross) is a children’s event supported and run by local churches in partnership with Scripture Union. Together for Youth takes the lead in helping to run this event. \nX:site is a celebration event for 7yr olds to School yr\,  to help them meet and get to know Jesus.  It involves games\, songs\, videos\, creative prayer\, crafts and Bible stories.  \nIt exists to support the work of the local church. \nIt is self funded and comes under the ministry of St. James Church Bream for safeguarding\, public liability and accountability. \nEmail xsiteforestofdean@gmail.com for more information.
URL:https://gloucester.anglican.org/event/xsite-forest-of-dean-july-2026/
LOCATION:St James Church Bream\, 1 St James Sq\, Bream\, GL15 6HB\, United Kingdom
CATEGORIES:Children and Family ministry,Worship & prayer,Youth Ministry
END:VEVENT
BEGIN:VEVENT
DTSTART;TZID=Europe/London:20260725T090000
DTEND;TZID=Europe/London:20260801T170000
DTSTAMP:20260419T162851
CREATED:20260303T132118Z
LAST-MODIFIED:20260303T132313Z
UID:76203-1784970000-1785603600@gloucester.anglican.org
SUMMARY:The Three Choirs Festival at Gloucester Cathedral
DESCRIPTION:One of the world’s oldest annual classical music festivals comes to Gloucester Cathedral for eight days of extraordinary music-making. \nFrom 25 July to 1 August\, experience the power of live choral music at the 2026 Three Choirs Festival. A superb selection of concerts features the Festival’s own choirs\, internationally-recognised soloists\, and the world-renowned Philharmonia Orchestra. Enjoy flagship evening concerts\, laid back late-nights and intimate daytime recitals\, all in the magnificent surroundings of Gloucester Cathedral. \nThe exciting programme includes Mozart’s dramatic Requiem\, Elgar’s masterpiece The Dream of Gerontius\, and a thrilling daytime schedule with recitals from VOCES8 and Roderick Williams. The three Cathedral Choirs of Gloucester\, Hereford and Worcester will join forces to sing Evensongs throughout the week in a feast of Anglican choral music\, including a live broadcast on BBC Radio 3. \nMark your diaries for the programme launch on 20 March\, with general booking from 13 April. \n→ More information 
URL:https://gloucester.anglican.org/event/the-three-choirs-festival-at-gloucester-cathedral/
LOCATION:Gloucester Cathedral\, College Green\, Gloucester\, GL1 2LY
END:VEVENT
BEGIN:VEVENT
DTSTART;TZID=Europe/London:20260905T093000
DTEND;TZID=Europe/London:20260905T153000
DTSTAMP:20260419T162851
CREATED:20260312T140714Z
LAST-MODIFIED:20260312T140714Z
UID:76358-1788600600-1788622200@gloucester.anglican.org
SUMMARY:IMD Y1 - 4 Curates: Spirituality Day
DESCRIPTION:For Curates only \nLed by: Revd Pauline Godfrey
URL:https://gloucester.anglican.org/event/imd-y1-4-curates-spirituality-day/
LOCATION:Brownshill Monastry\, Brownshill Road\, Stroud\, GL6 8AL\, United Kingdom
CATEGORIES:Curates
ORGANIZER;CN="Revd David Treharne":MAILTO:dtreharne@glosdioc.org.uk
END:VEVENT
BEGIN:VEVENT
DTSTART;TZID=Europe/London:20260908T103000
DTEND;TZID=Europe/London:20260908T130000
DTSTAMP:20260419T162851
CREATED:20260416T074632Z
LAST-MODIFIED:20260416T112045Z
UID:76934-1788863400-1788872400@gloucester.anglican.org
SUMMARY:Inhabiting Leadership - IMD 4 : Asking great questions and visioning (Part 1)
DESCRIPTION:This event is open to all Year 4 Curates and those in their 1st and/or 2nd year of a post of responsibility e.g. incumbency. \nThis is a 2 part session and both sessions must be attended. \nTo book your place please click here
URL:https://gloucester.anglican.org/event/inhabiting-leadership-imd-4-asking-great-questions-and-visioning-part-1/
LOCATION:Church House\, 5 Denmark Road\, Gloucester\, GL1 3HW\, 5 Denmark Road\, Gloucester\, Gloucestershire\, GL1 3HW\, United Kingdom
CATEGORIES:Curates
ORGANIZER;CN="Revd David Treharne":MAILTO:dtreharne@glosdioc.org.uk
END:VEVENT
BEGIN:VEVENT
DTSTART;TZID=Europe/London:20260908T133000
DTEND;TZID=Europe/London:20260908T153000
DTSTAMP:20260419T162851
CREATED:20260416T074851Z
LAST-MODIFIED:20260416T111958Z
UID:76939-1788874200-1788881400@gloucester.anglican.org
SUMMARY:Inhabiting Leadership - IMD 4 : Trauma informed clergy and churches
DESCRIPTION:This event is open to all Year 4 Curates and those in their 1st and/or 2nd year of a post of responsibility e.g. incumbency. \nTo book your place please click here \n 
URL:https://gloucester.anglican.org/event/inhabiting-leadership-imd-4-asking-great-questions-and-visioning-part-1-2-2/
LOCATION:Church House\, 5 Denmark Road\, Gloucester\, GL1 3HW\, 5 Denmark Road\, Gloucester\, Gloucestershire\, GL1 3HW\, United Kingdom
CATEGORIES:Curates
ORGANIZER;CN="Revd David Treharne":MAILTO:dtreharne@glosdioc.org.uk
END:VEVENT
BEGIN:VEVENT
DTSTART;TZID=Europe/London:20260914T133000
DTEND;TZID=Europe/London:20260914T160000
DTSTAMP:20260419T162851
CREATED:20260312T161757Z
LAST-MODIFIED:20260312T161757Z
UID:76394-1789392600-1789401600@gloucester.anglican.org
SUMMARY:IMD Y3 Curates: Moving On
DESCRIPTION:For Y3 Curates only
URL:https://gloucester.anglican.org/event/imd-y3-curates-moving-on/
LOCATION:Church House\, 5 Denmark Road\, Gloucester\, GL1 3HW\, 5 Denmark Road\, Gloucester\, Gloucestershire\, GL1 3HW\, United Kingdom
CATEGORIES:Curates
ORGANIZER;CN="Revd David Treharne":MAILTO:dtreharne@glosdioc.org.uk
END:VEVENT
BEGIN:VEVENT
DTSTART;TZID=Europe/London:20260914T193000
DTEND;TZID=Europe/London:20260914T203000
DTSTAMP:20260419T162851
CREATED:20260323T113115Z
LAST-MODIFIED:20260323T113115Z
UID:76624-1789414200-1789417800@gloucester.anglican.org
SUMMARY:Save the date: Network Cheltenham evening
DESCRIPTION:A Network Cheltenham evening that will be inviting speakers and exhibitors\, as well as having an opportunity to meet each other and deepen our ecumenical relationships. Fundamentally this is about celebrating and learning where we can share the love of Christ with our town.\n\nFurther details will follow later in the summer\, but for now\, please pencil in the date of 14 September for this event.
URL:https://gloucester.anglican.org/event/save-the-date-network-cheltenham-evening/
LOCATION:Gloucestershire
CATEGORIES:External event
ORGANIZER;CN="Rachel Leather":MAILTO:revrachel.leather@methodist.org.uk
END:VEVENT
BEGIN:VEVENT
DTSTART;TZID=Europe/London:20260915T110000
DTEND;TZID=Europe/London:20260915T160000
DTSTAMP:20260419T162851
CREATED:20260302T132507Z
LAST-MODIFIED:20260330T075029Z
UID:76102-1789470000-1789488000@gloucester.anglican.org
SUMMARY:Stewardship and Giving: Tewkesbury & Winchcombe - Deanery drop-in
DESCRIPTION:No need to sign up\, just drop in anytime to discuss any stewardship and giving issues over a cuppa!  \n\nFurther dates for your diary… \nGloucester City – Tuesday 22 September – The Clementine Café\, Gloucester \n  \nLisa- Jayne Lewis – Stewardship and Giving Advisor \nLisa-Jayne helps church leaders to think about how they can preach and teach about money\, how churches can find ways to increase their income\, find grants and think about regular giving and  financial stewardship as part of our Christian discipleship.
URL:https://gloucester.anglican.org/event/deanery-drop-in-15-sept/
LOCATION:The Tipsy Egg Cafe\, 6 Hailes Street\, Cheltenham\, GL54 5HU\, United Kingdom
CATEGORIES:CMD: Open to all,Developing Your Ministry,Stewardship and Giving
ORGANIZER;CN="Lisa-Jane Lewis":MAILTO:llewis@glosdioc.org.uk
END:VEVENT
BEGIN:VEVENT
DTSTART;TZID=Europe/London:20260922T110000
DTEND;TZID=Europe/London:20260922T160000
DTSTAMP:20260419T162851
CREATED:20260302T132836Z
LAST-MODIFIED:20260330T075035Z
UID:76107-1790074800-1790092800@gloucester.anglican.org
SUMMARY:Stewardship and Giving: Gloucester - Deanery drop-in
DESCRIPTION:No need to sign up\, just drop in anytime to discuss any stewardship and giving issues over a cuppa!  \n\nLisa- Jayne Lewis – Stewardship and Giving Advisor \nLisa-Jayne helps church leaders to think about how they can preach and teach about money\, how churches can find ways to increase their income\, find grants and think about regular giving and  financial stewardship as part of our Christian discipleship.
URL:https://gloucester.anglican.org/event/deanery-drop-in-22-sept/
LOCATION:The Clementine Cafe\, 64 Westgate Street\, Gloucester\, Gloucestershire\, GL1 2NE\, United Kingdom
CATEGORIES:CMD: Open to all,Developing Your Ministry,Stewardship and Giving
ORGANIZER;CN="Lisa-Jane Lewis":MAILTO:llewis@glosdioc.org.uk
END:VEVENT
BEGIN:VEVENT
DTSTART;TZID=Europe/London:20260923T090000
DTEND;TZID=Europe/London:20260924T170000
DTSTAMP:20260419T162851
CREATED:20260409T134349Z
LAST-MODIFIED:20260409T134349Z
UID:76880-1790154000-1790269200@gloucester.anglican.org
SUMMARY:MHFA - 2 day training
DESCRIPTION:Become a Mental Health First Aider · MHFA England \nis an internationally recognised training programme. Through the training participants will gain the skills and confidence to spot the triggers and signs of mental health problems and be able to contribute effectively to reducing stigma. \nThis course is designed for someone who would like to take on a role after the course of promoting a positive mental health culture and being a point of contact if someone is experiencing mental ill health. \nThis course will be over 2 days – 23 & 24 September 2026 from 9.00am – 5.00pm.  You will need to attend both days \nVenue – TBC \nCost – you need to cover the cost of the MHFA Workbook approx £32 \nTo book a place please email ku.gro.coidsolg@gniniartgnidraugefas
URL:https://gloucester.anglican.org/event/mhfa-2-day-training/
LOCATION:Gloucestershire
CATEGORIES:Leadership,Parish Safeguarding Officers,Safeguarding - open to all
END:VEVENT
BEGIN:VEVENT
DTSTART;TZID=Europe/London:20260927T091500
DTEND;TZID=Europe/London:20260927T153000
DTSTAMP:20260419T162851
CREATED:20260312T141258Z
LAST-MODIFIED:20260312T141258Z
UID:76362-1790500500-1790523000@gloucester.anglican.org
SUMMARY:IMD Y1 Curates: Looking after yourselves
DESCRIPTION:For Year 1 Curates only
URL:https://gloucester.anglican.org/event/imd-y1-curates-looking-after-yourselves/
LOCATION:Church House\, 5 Denmark Road\, Gloucester\, GL1 3HW\, 5 Denmark Road\, Gloucester\, Gloucestershire\, GL1 3HW\, United Kingdom
ORGANIZER;CN="Revd David Treharne":MAILTO:dtreharne@glosdioc.org.uk
END:VEVENT
BEGIN:VEVENT
DTSTART;TZID=Europe/London:20261003T090000
DTEND;TZID=Europe/London:20261003T170000
DTSTAMP:20260419T162851
CREATED:20260409T134843Z
LAST-MODIFIED:20260409T134843Z
UID:76883-1791018000-1791046800@gloucester.anglican.org
SUMMARY:MHFA Youth Training - Day 1 of 2
DESCRIPTION:Youth · MHFA England \nMHFA Youth Mental Health First Aid courses are for anyone who lives with\, works with\, or supports young people aged 8 to 18. \nWe train the adults in a young person’s life to have the skills and confidence to identify poor mental health and provide first-level support where it’s needed. In doing so\, they can speed up a young person’s recovery\, prevent their mental health from deteriorating\, and ultimately save lives. \nWhat’s more\, by giving learners the tools to look after their own mental health\, we can set a positive example for young people. We need to show that mental health should be treated equally to physical health\, and that it’s okay to talk about it and to ask for help. \nThis course will be over 2 days and you do need  to attend both days – Saturday 3rd & Saturday 10th October from 9.00am – 5.00pm. \nVenue – TBC \nCost – you need to cover the cost of the MHFA Workbook approx £32 \nTo book a place please email ku.gro.coidsolg@gniniartgnidraugefas
URL:https://gloucester.anglican.org/event/mhfa-youth-training-day-1-of-2/
LOCATION:Gloucestershire
CATEGORIES:Leadership,Parish Safeguarding Officers,Safeguarding - open to all
END:VEVENT
BEGIN:VEVENT
DTSTART;TZID=Europe/London:20261010T090000
DTEND;TZID=Europe/London:20261010T170000
DTSTAMP:20260419T162851
CREATED:20260409T135048Z
LAST-MODIFIED:20260409T135143Z
UID:76885-1791622800-1791651600@gloucester.anglican.org
SUMMARY:MHFA Youth - Day 2 of 2
DESCRIPTION:  \nYouth · MHFA England \nMHFA Youth Mental Health First Aid courses are for anyone who lives with\, works with\, or supports young people aged 8 to 18. \nWe train the adults in a young person’s life to have the skills and confidence to identify poor mental health and provide first-level support where it’s needed. In doing so\, they can speed up a young person’s recovery\, prevent their mental health from deteriorating\, and ultimately save lives. \nWhat’s more\, by giving learners the tools to look after their own mental health\, we can set a positive example for young people. We need to show that mental health should be treated equally to physical health\, and that it’s okay to talk about it and to ask for help. \nThis course will be over 2 days and you do need  to attend both days – Saturday 3rd & Saturday 10th October from 9.00am – 5.00pm. \nVenue – TBC \nCost – you need to cover the cost of the MHFA Workbook approx £32 \nTo book a place please email ku.gro.coidsolg@gniniartgnidraugefas
URL:https://gloucester.anglican.org/event/mhfa-youth-day-2-of-2/
LOCATION:Gloucestershire
CATEGORIES:Leadership,Parish Safeguarding Officers,Safeguarding - open to all
END:VEVENT
BEGIN:VEVENT
DTSTART;TZID=Europe/London:20261015T103000
DTEND;TZID=Europe/London:20261015T130000
DTSTAMP:20260419T162851
CREATED:20260416T074719Z
LAST-MODIFIED:20260416T112028Z
UID:76937-1792060200-1792069200@gloucester.anglican.org
SUMMARY:Inhabiting Leadership - IMD 4 : Asking great questions and visioning (Part 2)
DESCRIPTION:This event is open to all Year 4 Curates and those in their 1st and/or 2nd year of a post of responsibility e.g. incumbency. \nThis is a 2 part session and both sessions must be attended. \nTo book your place please click here
URL:https://gloucester.anglican.org/event/inhabiting-leadership-imd-4-asking-great-questions-and-visioning-part-1-2/
LOCATION:Church House\, 5 Denmark Road\, Gloucester\, GL1 3HW\, 5 Denmark Road\, Gloucester\, Gloucestershire\, GL1 3HW\, United Kingdom
CATEGORIES:Curates
ORGANIZER;CN="Revd David Treharne":MAILTO:dtreharne@glosdioc.org.uk
END:VEVENT
BEGIN:VEVENT
DTSTART;TZID=Europe/London:20261015T133000
DTEND;TZID=Europe/London:20261015T153000
DTSTAMP:20260419T162851
CREATED:20260416T084714Z
LAST-MODIFIED:20260416T111908Z
UID:76948-1792071000-1792078200@gloucester.anglican.org
SUMMARY:Inhabiting Leadership: Child Bereavement
DESCRIPTION:To book your place please click here \n 
URL:https://gloucester.anglican.org/event/incumbency-buildings-and-faculties-2-2/
LOCATION:Church House\, 5 Denmark Road\, Gloucester\, GL1 3HW\, 5 Denmark Road\, Gloucester\, Gloucestershire\, GL1 3HW\, United Kingdom
CATEGORIES:Curates
END:VEVENT
BEGIN:VEVENT
DTSTART;TZID=Europe/London:20261018T091500
DTEND;TZID=Europe/London:20261018T153000
DTSTAMP:20260419T162851
CREATED:20260312T154136Z
LAST-MODIFIED:20260312T154136Z
UID:76383-1792314900-1792337400@gloucester.anglican.org
SUMMARY:IMD Y2 Curates: Children\, Youth and Families Ministry
DESCRIPTION:For Y2 Curates only
URL:https://gloucester.anglican.org/event/imd-y2-curates-children-youth-and-families-ministry/
LOCATION:Church House\, 5 Denmark Road\, Gloucester\, GL1 3HW\, 5 Denmark Road\, Gloucester\, Gloucestershire\, GL1 3HW\, United Kingdom
CATEGORIES:Curates
END:VEVENT
BEGIN:VEVENT
DTSTART;TZID=Europe/London:20261103T140000
DTEND;TZID=Europe/London:20261103T170000
DTSTAMP:20260419T162851
CREATED:20260312T161930Z
LAST-MODIFIED:20260312T161930Z
UID:76396-1793714400-1793725200@gloucester.anglican.org
SUMMARY:IMD Y3 Curates: Moving On - interview practice
DESCRIPTION:For Y3 curates only
URL:https://gloucester.anglican.org/event/imd-y3-curates-moving-on-interview-practice/
LOCATION:Church House\, 5 Denmark Road\, Gloucester\, GL1 3HW\, 5 Denmark Road\, Gloucester\, Gloucestershire\, GL1 3HW\, United Kingdom
CATEGORIES:Curates
ORGANIZER;CN="Revd David Treharne":MAILTO:dtreharne@glosdioc.org.uk
END:VEVENT
BEGIN:VEVENT
DTSTART;TZID=Europe/London:20261104T140000
DTEND;TZID=Europe/London:20261104T170000
DTSTAMP:20260419T162851
CREATED:20260312T161959Z
LAST-MODIFIED:20260312T161959Z
UID:76398-1793800800-1793811600@gloucester.anglican.org
SUMMARY:IMD Y3 Curates: Moving On - interview practice
DESCRIPTION:For Y3 curates only
URL:https://gloucester.anglican.org/event/imd-y3-curates-moving-on-interview-practice-2/
LOCATION:Church House\, 5 Denmark Road\, Gloucester\, GL1 3HW\, 5 Denmark Road\, Gloucester\, Gloucestershire\, GL1 3HW\, United Kingdom
CATEGORIES:Curates
ORGANIZER;CN="Revd David Treharne":MAILTO:dtreharne@glosdioc.org.uk
END:VEVENT
BEGIN:VEVENT
DTSTART;TZID=Europe/London:20261107T093000
DTEND;TZID=Europe/London:20261107T130000
DTSTAMP:20260419T162851
CREATED:20260312T141459Z
LAST-MODIFIED:20260312T163324Z
UID:76364-1794043800-1794056400@gloucester.anglican.org
SUMMARY:IMD Y1 Curates and Incumbents: Power in Relationships
DESCRIPTION:For Year One Curates and Training Incumbents only
URL:https://gloucester.anglican.org/event/imd-y1-curates-and-incumbents-power-in-relationships/
LOCATION:Church House\, 5 Denmark Road\, Gloucester\, GL1 3HW\, 5 Denmark Road\, Gloucester\, Gloucestershire\, GL1 3HW\, United Kingdom
ORGANIZER;CN="Revd David Treharne":MAILTO:dtreharne@glosdioc.org.uk
END:VEVENT
BEGIN:VEVENT
DTSTART;TZID=Europe/London:20261118T133000
DTEND;TZID=Europe/London:20261118T163000
DTSTAMP:20260419T162851
CREATED:20260312T162448Z
LAST-MODIFIED:20260313T081938Z
UID:76400-1795008600-1795019400@gloucester.anglican.org
SUMMARY:IMD Y3 and Y4 curates plus new incumbents & Y1 TI's: Building a Healthy Team and Dealing with Conflict
DESCRIPTION:For Y3 and Y4 curates plus new incumbents & Y1 TI’s only \nRun by THRIVE
URL:https://gloucester.anglican.org/event/imd-y3-and-y4-curates-plus-new-incumbents-y1-tis-building-a-healthy-team-and-dealing-with-conflict/
LOCATION:Church House\, 5 Denmark Road\, Gloucester\, GL1 3HW\, 5 Denmark Road\, Gloucester\, Gloucestershire\, GL1 3HW\, United Kingdom
CATEGORIES:Curates
ORGANIZER;CN="Revd David Treharne":MAILTO:dtreharne@glosdioc.org.uk
END:VEVENT
BEGIN:VEVENT
DTSTART;TZID=Europe/London:20261122T091500
DTEND;TZID=Europe/London:20261122T153000
DTSTAMP:20260419T162851
CREATED:20260312T150908Z
LAST-MODIFIED:20260312T151113Z
UID:76366-1795338900-1795361400@gloucester.anglican.org
SUMMARY:IMD Y1 Curates: Baptism Matters
DESCRIPTION:For Y1 Curates only
URL:https://gloucester.anglican.org/event/imd-y1-baptism-matters/
LOCATION:Church House\, 5 Denmark Road\, Gloucester\, GL1 3HW\, 5 Denmark Road\, Gloucester\, Gloucestershire\, GL1 3HW\, United Kingdom
CATEGORIES:Curates
ORGANIZER;CN="Revd David Treharne":MAILTO:dtreharne@glosdioc.org.uk
END:VEVENT
BEGIN:VEVENT
DTSTART;TZID=Europe/London:20261206T084500
DTEND;TZID=Europe/London:20261206T120000
DTSTAMP:20260419T162851
CREATED:20260312T152829Z
LAST-MODIFIED:20260312T152829Z
UID:76369-1796546700-1796558400@gloucester.anglican.org
SUMMARY:IMD Y1 Curates: Health Care Chaplaincy
DESCRIPTION:For Y1 Curates only \nLed by: Revd John Thompson \nChaplaincy is working very much on the edges: life and death; sickness and health; faith and seeking.  Standing alongside people in that difficult space demands an ability to interpret faith and scripture in ways which are relevant to people for the first time and to help them find hope at times of despair.  When people generally are seeking spirituality afresh\, the skills developed in chaplaincy have never been more important: making faith come alive and be relevant for people ‘in the moment’ in ways they can grasp. Making their questions the starting point\, rather than our message.  Chaplains frequently work through situations which are once-in-a-ministry in parish settings.  So this session will be about how we minister in extreme situations\, how we support people seeking faith at times when their lives are falling apart. And how we maintain the integrity of personal belief while serving in a diverse community.
URL:https://gloucester.anglican.org/event/imd-y1-curates-health-care-chaplaincy/
LOCATION:The Chapel\, Gloucester Royal Hospital\, Great Western Road\, GL1 3NN
CATEGORIES:Curates
ORGANIZER;CN="Revd David Treharne":MAILTO:dtreharne@glosdioc.org.uk
END:VEVENT
BEGIN:VEVENT
DTSTART;TZID=Europe/London:20270110T091500
DTEND;TZID=Europe/London:20270110T153000
DTSTAMP:20260419T162851
CREATED:20260312T152958Z
LAST-MODIFIED:20260312T152958Z
UID:76374-1799572500-1799595000@gloucester.anglican.org
SUMMARY:IMD Y1 Curates: Making the most of Funerals
DESCRIPTION:For Y1 Curates only
URL:https://gloucester.anglican.org/event/imd-y1-curates-making-the-most-of-funerals/
LOCATION:Church House\, 5 Denmark Road\, Gloucester\, GL1 3HW\, 5 Denmark Road\, Gloucester\, Gloucestershire\, GL1 3HW\, United Kingdom
CATEGORIES:Curates
ORGANIZER;CN="Revd David Treharne":MAILTO:dtreharne@glosdioc.org.uk
END:VEVENT
BEGIN:VEVENT
DTSTART;TZID=Europe/London:20270117T091500
DTEND;TZID=Europe/London:20270117T153000
DTSTAMP:20260419T162851
CREATED:20260312T154250Z
LAST-MODIFIED:20260312T154250Z
UID:76385-1800177300-1800199800@gloucester.anglican.org
SUMMARY:IMD Y2 Curates: Confession\, Reconciliation and Deliverance
DESCRIPTION:For Y2 Curates only
URL:https://gloucester.anglican.org/event/imd-y2-curates-confession-reconciliation-and-deliverance/
LOCATION:Church House\, 5 Denmark Road\, Gloucester\, GL1 3HW\, 5 Denmark Road\, Gloucester\, Gloucestershire\, GL1 3HW\, United Kingdom
CATEGORIES:Curates
ORGANIZER;CN="Revd David Treharne":MAILTO:dtreharne@glosdioc.org.uk
END:VEVENT
BEGIN:VEVENT
DTSTART;TZID=Europe/London:20270120T103000
DTEND;TZID=Europe/London:20270120T130000
DTSTAMP:20260419T162851
CREATED:20260313T082343Z
LAST-MODIFIED:20260416T112244Z
UID:76412-1800441000-1800450000@gloucester.anglican.org
SUMMARY:Inhabiting Leadership: Parish Finance
DESCRIPTION:To explore the particular role that the incumbent has in the financial management of the parish.  This includes the basics of reading balance sheets and annual accounts\, how to work well with the treasurer and how to approach stewardship and encourage congregational giving. \n  \n(For SSMs – optional session) \nTo book your place please click here \n 
URL:https://gloucester.anglican.org/event/incumbency-parish-finance-2/
LOCATION:Church House\, 5 Denmark Road\, Gloucester\, GL1 3HW\, 5 Denmark Road\, Gloucester\, Gloucestershire\, GL1 3HW\, United Kingdom
CATEGORIES:Curates
ORGANIZER;CN="Revd David Treharne":MAILTO:dtreharne@glosdioc.org.uk
END:VEVENT
END:VCALENDAR