BEGIN:VCALENDAR
VERSION:2.0
PRODID:-//Diocese of Gloucester - ECPv6.15.20//NONSGML v1.0//EN
CALSCALE:GREGORIAN
METHOD:PUBLISH
X-WR-CALNAME:Diocese of Gloucester
X-ORIGINAL-URL:https://gloucester.anglican.org
X-WR-CALDESC:Events for Diocese of Gloucester
REFRESH-INTERVAL;VALUE=DURATION:PT1H
X-Robots-Tag:noindex
X-PUBLISHED-TTL:PT1H
BEGIN:VTIMEZONE
TZID:Europe/London
BEGIN:DAYLIGHT
TZOFFSETFROM:+0000
TZOFFSETTO:+0100
TZNAME:BST
DTSTART:20250330T010000
END:DAYLIGHT
BEGIN:STANDARD
TZOFFSETFROM:+0100
TZOFFSETTO:+0000
TZNAME:GMT
DTSTART:20251026T010000
END:STANDARD
BEGIN:DAYLIGHT
TZOFFSETFROM:+0000
TZOFFSETTO:+0100
TZNAME:BST
DTSTART:20260329T010000
END:DAYLIGHT
BEGIN:STANDARD
TZOFFSETFROM:+0100
TZOFFSETTO:+0000
TZNAME:GMT
DTSTART:20261025T010000
END:STANDARD
BEGIN:DAYLIGHT
TZOFFSETFROM:+0000
TZOFFSETTO:+0100
TZNAME:BST
DTSTART:20270328T010000
END:DAYLIGHT
BEGIN:STANDARD
TZOFFSETFROM:+0100
TZOFFSETTO:+0000
TZNAME:GMT
DTSTART:20271031T010000
END:STANDARD
END:VTIMEZONE
BEGIN:VEVENT
DTSTART;TZID=Europe/London:20260502T190000
DTEND;TZID=Europe/London:20260502T210000
DTSTAMP:20260424T170241
CREATED:20260223T112453Z
LAST-MODIFIED:20260223T112453Z
UID:75830-1777748400-1777755600@gloucester.anglican.org
SUMMARY:Branch Youth Worship
DESCRIPTION:A Monthly Youth Worship Event for secondary school aged young people. \nBranch Youth Worship Event – For all in secondary education\, bring vibrant worship and challenging message to young people wanting to grow in their faith.  \nHosted by The Community Church\, Cinderford. Branch is a free inter-church event. \nIt is self funded and comes under the ministry of The Community Church for safeguarding\, public liability and accountability. \nFor more information\, please contact: branchyouthworshipevent@gmail.com
URL:https://gloucester.anglican.org/event/branch-youth-worship-may-2026/
LOCATION:The Community Church\, Cinderford\, GL14 2PQ\, United Kingdom
CATEGORIES:Children and Family ministry,Worship & prayer,Youth Ministry
END:VEVENT
BEGIN:VEVENT
DTSTART;TZID=Europe/London:20260506T170000
DTEND;TZID=Europe/London:20260506T193000
DTSTAMP:20260424T170241
CREATED:20260219T125026Z
LAST-MODIFIED:20260223T102221Z
UID:74995-1778086800-1778095800@gloucester.anglican.org
SUMMARY:Growing Hope - Accessibility Training
DESCRIPTION:This practical workshop will look at how to support children\, young people and adults with a range of needs. Additional needs can include anything which impacts upon participation in activity (physical\, learning\, mental health or undiagnosed needs). \nWe’ll focus on our sensory processing: \n\nhow we take in the world through our senses\nhow God speaks to us through these senses\nhow multisensory strategies enable our church communities and spaces to be accessible for everyone.\n\nGrowing Hope is a charity providing free therapy for children and young people with additional needs in partnership with local churches across the UK. \nTo book your place\, please click here. \nLed by: \nBarrie Voyce\, Senior Youth Connector \nBarrie leads the growing network of deanery youth connectors\, enabling and equipping effective youth ministry across the diocese. \n  \n  \nFaith Spinks\, from Growing Hope will be your facilitator for the evening. \nFaith works for Growing Hope as Accessibility Engagement Officer connecting with churches\, schools and other organisations\, providing accessibility training and awards. She is a qualified teacher with a BA (QTS) in education and has spent her career working with children and young people – as a teacher\, in-school student mentoring\, church children and youth work\, in the charity sector\, volunteering with foster kids\, and working in Brazil with children and young people living on the streets. This has included working with children with complex needs and trauma backgrounds both here in the UK and internationally. Faith is passionate about helping churches and schools understand accessibility better as a way to equip them to support parents and families better. 
URL:https://gloucester.anglican.org/event/growing-hope/
LOCATION:St Matthews Church Hall\, Church Road\, Stroud\, GL5 4JE\, United Kingdom
CATEGORIES:Children and Family ministry,CMD: Clergy,CMD: Open to all,CMD: Readers,Developing Your Ministry,Everyday Faith,Worship & prayer,Youth Ministry
ORGANIZER;CN="Barrie Voyce":MAILTO:bvoyce@glosdioc.org.uk
END:VEVENT
BEGIN:VEVENT
DTSTART;TZID=Europe/London:20260509T083000
DTEND;TZID=Europe/London:20260509T093000
DTSTAMP:20260424T170241
CREATED:20260223T114152Z
LAST-MODIFIED:20260326T093349Z
UID:75835-1778315400-1778319000@gloucester.anglican.org
SUMMARY:Pray for Youth and Children - Forest of Dean
DESCRIPTION:Praying for children and young people to know Jesus. \nA monthly Forest of Dean wide prayer breakfast meeting. Open for all to network\, support and pray. \nOrganised by Together for Youth partnering with The Community Family Minister\, and Churches Together in Lydney. \nContact youth.childrenprayerbreakfast@gmail.com for more information or to register your interest.
URL:https://gloucester.anglican.org/event/pray-for-youth-and-children-forest-of-dean-may-26/
LOCATION:All Saints’ Church Blakeney\, GL15 4DX\, United Kingdom
CATEGORIES:Children and Family ministry,Worship & prayer,Youth Ministry
END:VEVENT
BEGIN:VEVENT
DTSTART;TZID=Europe/London:20260516T170000
DTEND;TZID=Europe/London:20260516T190000
DTSTAMP:20260424T170241
CREATED:20260223T115408Z
LAST-MODIFIED:20260223T115408Z
UID:75863-1778950800-1778958000@gloucester.anglican.org
SUMMARY:X:Site Forest of Dean
DESCRIPTION:X:site (The place of the Cross) is a children’s event supported and run by local churches in partnership with Scripture Union. Together for Youth takes the lead in helping to run this event. \nX:site is a celebration event for 7yr olds to School yr\,  to help them meet and get to know Jesus.  It involves games\, songs\, videos\, creative prayer\, crafts and Bible stories.  \nIt exists to support the work of the local church. \nIt is self funded and comes under the ministry of St. James Church Bream for safeguarding\, public liability and accountability. \nEmail xsiteforestofdean@gmail.com for more information.
URL:https://gloucester.anglican.org/event/xsite-forest-of-dean-may-2026/
LOCATION:St James Church Bream\, 1 St James Sq\, Bream\, GL15 6HB\, United Kingdom
CATEGORIES:Children and Family ministry,Worship & prayer,Youth Ministry
END:VEVENT
BEGIN:VEVENT
DTSTART;TZID=Europe/London:20260606T190000
DTEND;TZID=Europe/London:20260606T210000
DTSTAMP:20260424T170241
CREATED:20260223T112549Z
LAST-MODIFIED:20260223T112549Z
UID:75829-1780772400-1780779600@gloucester.anglican.org
SUMMARY:Branch Youth Worship
DESCRIPTION:A Monthly Youth Worship Event for secondary school aged young people. \nBranch Youth Worship Event – For all in secondary education\, bring vibrant worship and challenging message to young people wanting to grow in their faith.  \nHosted by The Community Church\, Cinderford. Branch is a free inter-church event. \nIt is self funded and comes under the ministry of The Community Church for safeguarding\, public liability and accountability. \nFor more information\, please contact: branchyouthworshipevent@gmail.com
URL:https://gloucester.anglican.org/event/branch-youth-worship-june-2026/
LOCATION:The Community Church\, Cinderford\, GL14 2PQ\, United Kingdom
CATEGORIES:Children and Family ministry,Worship & prayer,Youth Ministry
END:VEVENT
BEGIN:VEVENT
DTSTART;TZID=Europe/London:20260613T083000
DTEND;TZID=Europe/London:20260613T093000
DTSTAMP:20260424T170241
CREATED:20260223T114537Z
LAST-MODIFIED:20260223T114620Z
UID:75837-1781339400-1781343000@gloucester.anglican.org
SUMMARY:Pray for Youth and Children - Forest of Dean
DESCRIPTION:Praying for children and young people to know Jesus. \nA monthly Forest of Dean wide prayer breakfast meeting. Open for all to network\, support and pray. \nOrganised by Together for Youth partnering with The Community Family Minister\, and Churches Together in Lydney. \nContact youth.childrenprayerbreakfast@gmail.com for more information or to register your interest.
URL:https://gloucester.anglican.org/event/pray-for-youth-and-children-forest-of-dean-june-26/
LOCATION:The Community Church\, Cinderford\, GL14 2PQ\, United Kingdom
CATEGORIES:Children and Family ministry,Worship & prayer,Youth Ministry
END:VEVENT
BEGIN:VEVENT
DTSTART;TZID=Europe/London:20260704T190000
DTEND;TZID=Europe/London:20260704T210000
DTSTAMP:20260424T170241
CREATED:20260223T112652Z
LAST-MODIFIED:20260223T112652Z
UID:75828-1783191600-1783198800@gloucester.anglican.org
SUMMARY:Branch Youth Worship
DESCRIPTION:A Monthly Youth Worship Event for secondary school aged young people. \nBranch Youth Worship Event – For all in secondary education\, bring vibrant worship and challenging message to young people wanting to grow in their faith.  \nHosted by The Community Church\, Cinderford. Branch is a free inter-church event. \nIt is self funded and comes under the ministry of The Community Church for safeguarding\, public liability and accountability. \nFor more information\, please contact: branchyouthworshipevent@gmail.com
URL:https://gloucester.anglican.org/event/branch-youth-worship-july-2026/
LOCATION:The Community Church\, Cinderford\, GL14 2PQ\, United Kingdom
CATEGORIES:Children and Family ministry,Worship & prayer,Youth Ministry
END:VEVENT
BEGIN:VEVENT
DTSTART;TZID=Europe/London:20260711T083000
DTEND;TZID=Europe/London:20260711T093000
DTSTAMP:20260424T170241
CREATED:20260223T114852Z
LAST-MODIFIED:20260223T114852Z
UID:75836-1783758600-1783762200@gloucester.anglican.org
SUMMARY:Pray for Youth and Children - Forest of Dean
DESCRIPTION:Praying for children and young people to know Jesus. \nA monthly Forest of Dean wide prayer breakfast meeting. Open for all to network\, support and pray. \nOrganised by Together for Youth partnering with The Community Family Minister\, and Churches Together in Lydney. \nContact youth.childrenprayerbreakfast@gmail.com for more information or to register your interest.
URL:https://gloucester.anglican.org/event/pray-for-youth-and-children-forest-of-dean-july-26/
LOCATION:St Mary’s Lydney\, GL15 5TL\, United Kingdom
CATEGORIES:Children and Family ministry,Worship & prayer,Youth Ministry
END:VEVENT
BEGIN:VEVENT
DTSTART;TZID=Europe/London:20260718T170000
DTEND;TZID=Europe/London:20260718T190000
DTSTAMP:20260424T170241
CREATED:20260223T115455Z
LAST-MODIFIED:20260223T115455Z
UID:75864-1784394000-1784401200@gloucester.anglican.org
SUMMARY:X:Site Forest of Dean
DESCRIPTION:X:site (The place of the Cross) is a children’s event supported and run by local churches in partnership with Scripture Union. Together for Youth takes the lead in helping to run this event. \nX:site is a celebration event for 7yr olds to School yr\,  to help them meet and get to know Jesus.  It involves games\, songs\, videos\, creative prayer\, crafts and Bible stories.  \nIt exists to support the work of the local church. \nIt is self funded and comes under the ministry of St. James Church Bream for safeguarding\, public liability and accountability. \nEmail xsiteforestofdean@gmail.com for more information.
URL:https://gloucester.anglican.org/event/xsite-forest-of-dean-july-2026/
LOCATION:St James Church Bream\, 1 St James Sq\, Bream\, GL15 6HB\, United Kingdom
CATEGORIES:Children and Family ministry,Worship & prayer,Youth Ministry
END:VEVENT
END:VCALENDAR