BEGIN:VCALENDAR
VERSION:2.0
PRODID:-//Diocese of Gloucester - ECPv6.15.20//NONSGML v1.0//EN
CALSCALE:GREGORIAN
METHOD:PUBLISH
X-WR-CALNAME:Diocese of Gloucester
X-ORIGINAL-URL:https://gloucester.anglican.org
X-WR-CALDESC:Events for Diocese of Gloucester
REFRESH-INTERVAL;VALUE=DURATION:PT1H
X-Robots-Tag:noindex
X-PUBLISHED-TTL:PT1H
BEGIN:VTIMEZONE
TZID:Europe/London
BEGIN:DAYLIGHT
TZOFFSETFROM:+0000
TZOFFSETTO:+0100
TZNAME:BST
DTSTART:20230326T010000
END:DAYLIGHT
BEGIN:STANDARD
TZOFFSETFROM:+0100
TZOFFSETTO:+0000
TZNAME:GMT
DTSTART:20231029T010000
END:STANDARD
BEGIN:DAYLIGHT
TZOFFSETFROM:+0000
TZOFFSETTO:+0100
TZNAME:BST
DTSTART:20240331T010000
END:DAYLIGHT
BEGIN:STANDARD
TZOFFSETFROM:+0100
TZOFFSETTO:+0000
TZNAME:GMT
DTSTART:20241027T010000
END:STANDARD
BEGIN:DAYLIGHT
TZOFFSETFROM:+0000
TZOFFSETTO:+0100
TZNAME:BST
DTSTART:20250330T010000
END:DAYLIGHT
BEGIN:STANDARD
TZOFFSETFROM:+0100
TZOFFSETTO:+0000
TZNAME:GMT
DTSTART:20251026T010000
END:STANDARD
BEGIN:DAYLIGHT
TZOFFSETFROM:+0000
TZOFFSETTO:+0100
TZNAME:BST
DTSTART:20260329T010000
END:DAYLIGHT
BEGIN:STANDARD
TZOFFSETFROM:+0100
TZOFFSETTO:+0000
TZNAME:GMT
DTSTART:20261025T010000
END:STANDARD
END:VTIMEZONE
BEGIN:VEVENT
DTSTART;TZID=Europe/London:20250225T190000
DTEND;TZID=Europe/London:20250225T210000
DTSTAMP:20260424T230049
CREATED:20241107T152425Z
LAST-MODIFIED:20250123T110957Z
UID:64351-1740510000-1740517200@gloucester.anglican.org
SUMMARY:Grant Writing Workshop
DESCRIPTION:There are many Trusts across the UK who are seeking to make grants to churches and worshipping communities but many churches are unsure how to access these and how to write successful bids. These short workshops will help you think about how to tell the story of your parish or project in a way that enthuses Trust executives\, helping you stand a better chance of being successful.\n\nRefreshment will be included. \n\nBook here to secure your place. \n  \n  \n  \n\nLisa- Jayne Lewis – Stewardship and Giving Advisor \nLisa-Jayne helps church leaders to think about how they can preach and teach about money\, how churches can find ways to increase their income\, find grants and think about regular giving and  financial stewardship as part of our Christian discipleship.
URL:https://gloucester.anglican.org/event/grant-writing-workshop-feb25/
LOCATION:St Mary’s Church\, Charlton Kings\, Horsefair Street\, Cheltenham\, GL53 8JE\, United Kingdom
CATEGORIES:CMD: Open to all,Developing Your Ministry,Stewardship and Giving
ORGANIZER;CN="Lisa-Jane Lewis":MAILTO:llewis@glosdioc.org.uk
END:VEVENT
BEGIN:VEVENT
DTSTART;TZID=Europe/London:20250116T190000
DTEND;TZID=Europe/London:20250116T210000
DTSTAMP:20260424T230049
CREATED:20241030T142953Z
LAST-MODIFIED:20250107T143635Z
UID:64172-1737054000-1737061200@gloucester.anglican.org
SUMMARY:Grant Writing Workshop
DESCRIPTION:There are many Trusts across the UK who are seeking to make grants to churches and worshipping communities but many churches are unsure how to access these and how to write successful bids. These short workshops will help you think about how to tell the story of your parish or project in a way that enthuses Trust executives\, helping you stand a better chance of being successful.\n\nRefreshment will be included. \n\nBook here to secure your place. \n  \n  \n  \n\nLisa- Jayne Lewis – Stewardship and Giving Advisor \nLisa-Jayne helps church leaders to think about how they can preach and teach about money\, how churches can find ways to increase their income\, find grants and think about regular giving and  financial stewardship as part of our Christian discipleship.
URL:https://gloucester.anglican.org/event/grant-writing-workshop-jan25/
LOCATION:The Jerusalem Room\, No 4 College Green\, No 4 College Green\, Gloucester\, GL1 2LR\, United Kingdom
CATEGORIES:CMD: Open to all,Developing Your Ministry,Stewardship and Giving
ORGANIZER;CN="Lisa-Jane Lewis":MAILTO:llewis@glosdioc.org.uk
END:VEVENT
BEGIN:VEVENT
DTSTART;TZID=Europe/London:20250111T100000
DTEND;TZID=Europe/London:20250111T150000
DTSTAMP:20260424T230049
CREATED:20240923T131651Z
LAST-MODIFIED:20240923T132519Z
UID:63123-1736589600-1736607600@gloucester.anglican.org
SUMMARY:Run the Race
DESCRIPTION:Therefore\, since we are surrounded by so great a cloud of witnesses\, let us also lay aside every weight and the sin that clings so closely\, and let us run with perseverance the race that is set before us\, looking to Jesus the pioneer and perfecter of our faith\, who for the sake of the joy that was set before him endured the cross\, disregarding its shame\, and has taken his seat at the right hand of the throne of God.  \nHebrews 12:1-2  \nAre you a New Years Resolution person? All those great decisions and good intentions… it’s not that they are a bad thing\, right?  \nHow do we run the race with endurance\, not falling into trying\, but rather training? \nWhat would it mean to make choices at the beginning of the New Year that allow us to flourish\, rest\, be more creative\, and joyful?  \nAs I have listened to felt needs around the Diocese in these first six months\, how we are to manage our time\, make good choices about what to do and\, probably more importantly\, what not to do\, has come up all over the place. Run the race seeks to offer support into that.  \nThis is not so much a training day\, more led retreat. \nIn it there will be time to discern priorities\, get things in the diary that give us life [yes\, really\, bring your diary – let’s do this!]\, be realistic about what needs to go\, find space for that thing you’ve wanted to do for ages… above all\, to be reminded by God that you are beloved\, and don’t need to do anything to earn God’s love. \nTo book your place please click here. \nLed by: \nKate Stacey\, Collaborative Ministry Lead: Lifelong learning and Becca Faal\, Strategic Lead for Safeguarding Training & Learning. \nThe Revd Kate Stacey leads on the development of an innovative and collaborative approach to ensuring all ministries\, licensed\, lay and ordained grow and flourish.  Kate develops and delivers the CMD programme for everyone. \n  \n  \n  \nBecca is the lead for all safeguarding training and learning. Becca ensures training is delivered to a high standard within the national CofE framework. \n  \n 
URL:https://gloucester.anglican.org/event/run-the-race/
LOCATION:Prinknash Abbey\, Prinknash Abbey\, Gloucester\, GL4 8EX
CATEGORIES:Children and Family ministry,CMD: Clergy,CMD: Open to all,CMD: Readers,Developing Your Ministry,Pioneering,Stewardship and Giving,Worship & prayer,Youth Ministry
ORGANIZER;CN="Revd Kate Stacey":MAILTO:kstacey@glosdioc.org.uk
END:VEVENT
BEGIN:VEVENT
DTSTART;TZID=Europe/London:20241128T183000
DTEND;TZID=Europe/London:20241128T210000
DTSTAMP:20260424T230049
CREATED:20241003T133723Z
LAST-MODIFIED:20241003T134836Z
UID:63384-1732818600-1732827600@gloucester.anglican.org
SUMMARY:Unconscious Bias Training
DESCRIPTION:We all have opinions\, are aware of it and make allowances. What is of greater concern is those of which we are unconscious. \nThis training\, which is part of our safer recruiting programme\, is open to anyone who wants to become more aware of their thinking. In two and a half hours we will: \n\nProvide an overview of the concept of unconscious bias and it’s impact;\nHighlight the differences between and importance of the concepts of diversity and inclusion;\nOffer tools and techniques to manage and reduce bias;\nAllow space to action plan for change.\n\nPlease take a moment to see this short introduction from Bishop Rachel. \nIt is also possible for this course to be offered locally – in parish\, benefice or deanery setting.  \nFor more information or to discuss running a course in parish\, benefice or deanery setting please contact Pauline Godfrey on pgodfrey@glosdioc.org.uk \nTo book your place please click here.
URL:https://gloucester.anglican.org/event/unconscious-bias-training-28-nov-2024/
LOCATION:The Jerusalem Room\, No 4 College Green\, No 4 College Green\, Gloucester\, GL1 2LR\, United Kingdom
CATEGORIES:Children and Family ministry,CMD: Clergy,CMD: Open to all,CMD: Readers,Curates,Developing Your Ministry,Everyday Faith,Safeguarding - open to all,Stewardship and Giving,Worship & prayer,Youth Ministry
END:VEVENT
BEGIN:VEVENT
DTSTART;TZID=Europe/London:20241121T183000
DTEND;TZID=Europe/London:20241121T210000
DTSTAMP:20260424T230049
CREATED:20241003T133624Z
LAST-MODIFIED:20241003T134800Z
UID:63382-1732213800-1732222800@gloucester.anglican.org
SUMMARY:Unconscious Bias Training
DESCRIPTION:We all have opinions\, are aware of it and make allowances. What is of greater concern is those of which we are unconscious. \nThis training\, which is part of our safer recruiting programme\, is open to anyone who wants to become more aware of their thinking. In two and a half hours we will: \n\nProvide an overview of the concept of unconscious bias and it’s impact;\nHighlight the differences between and importance of the concepts of diversity and inclusion;\nOffer tools and techniques to manage and reduce bias;\nAllow space to action plan for change.\n\nPlease take a moment to see this short introduction from Bishop Rachel. \nIt is also possible for this course to be offered locally – in parish\, benefice or deanery setting.  \nFor more information or to discuss running a course in parish\, benefice or deanery setting please contact Pauline Godfrey on pgodfrey@glosdioc.org.uk \nTo book your place please click here.
URL:https://gloucester.anglican.org/event/unconscious-bias-training-21-nov-2024/
LOCATION:The Jerusalem Room\, No 4 College Green\, No 4 College Green\, Gloucester\, GL1 2LR\, United Kingdom
CATEGORIES:Children and Family ministry,CMD: Clergy,CMD: Open to all,CMD: Readers,Curates,Developing Your Ministry,Stewardship and Giving,Worship & prayer,Youth Ministry
END:VEVENT
BEGIN:VEVENT
DTSTART;TZID=Europe/London:20241102T100000
DTEND;TZID=Europe/London:20241102T123000
DTSTAMP:20260424T230049
CREATED:20240612T134030Z
LAST-MODIFIED:20240911T144057Z
UID:60677-1730541600-1730550600@gloucester.anglican.org
SUMMARY:GoodWill Event
DESCRIPTION:Have you got questions about Wills\, Probate & Power of Attorneys? Have you got no idea how to plan or pay for a funeral? Concerned about the eco nature of your death? Want to know about ‘Swedish Death Cleaning’? Slightly concerned your cat might eat you if you die alone? (no seriously!) \nWe’ll tackle all this and more at our ‘GoodWill’ event. \nThey say that there are two things in life that are inevitable\, death and taxes. However\, it has been proven by large corporations and a smattering of celebrities and MPs that taxes can be avoided; death\, on the other hand\, is a 100% guarantee. Why\, then\, is it still such a taboo topic? \nAt this event you’ll hear from a funeral director\, a solicitor\, a death education specialist and others in the industry and you’ll be able to ask any questions you may have about anything from funeral planning to leaving a bequest to your church\, whatever you want to know\, we’ll have the answers. \nCome along for a surprisingly light and informative event\, we promise it won’t be weird! \nThis workshop will be running on three different dates in three different locations. Please choose the one that is most convenient to you. \nRefreshment will be included. \nClick here to book this event. \nLisa- Jayne Lewis – Stewardship and Giving Advisor \nLisa-Jayne helps church leaders to think about how they can preach and teach about money\, how churches can find ways to increase their income\, find grants and think about regular giving and  financial stewardship as part of our Christian discipleship.
URL:https://gloucester.anglican.org/event/goodwill-event-2-2/
LOCATION:Tewkesbury Abbey Parish Room\, Church Street\, Tewkesbury\, Gloucestershire\, GL20 5RZ\, United Kingdom
CATEGORIES:CMD: Clergy,CMD: Open to all,CMD: Readers,Developing Your Ministry,Everyday Faith,Stewardship and Giving
ORGANIZER;CN="Lisa-Jane Lewis":MAILTO:llewis@glosdioc.org.uk
END:VEVENT
BEGIN:VEVENT
DTSTART;TZID=Europe/London:20241012T100000
DTEND;TZID=Europe/London:20241012T140000
DTSTAMP:20260424T230049
CREATED:20240404T115945Z
LAST-MODIFIED:20240620T095517Z
UID:59230-1728727200-1728741600@gloucester.anglican.org
SUMMARY:Fundraising Workshop
DESCRIPTION:This workshop will look at all the different ways that parishes can and do generate income. Bring your ideas and be inspired by what others have done to raise money for all different aspects of mission and ministry. We’ll look at church and community fundraising\, as well as grants\, legacies\, life events and more.\n\n\nThis workshop will be running on two different dates in two different locations. Please choose the workshop that is most convenient to you. \nLunch will be included. \nOption 1:\nDate: 27 September 2024\nTime: 10am – 2pm\nLocation: St Peter’s Church Winchcombe\nCost: Free Event \nOption 2:\nDate: 12 October 2024\nTime: 10am – 2pm\nLocation: St Bartholomew’s Church Cam\nCost: Free Event \n\nPlease book here to secure your place.\n\n\nLisa- Jayne Lewis – Stewardship and Giving Advisor \nLisa-Jayne helps church leaders to think about how they can preach and teach about money\, how churches can find ways to increase their income\, find grants and think about regular giving and  financial stewardship as part of our Christian discipleship.
URL:https://gloucester.anglican.org/event/fundraising-workshop-2/
LOCATION:St Bartholomew\, Cam Pitch\, Cam\,\, Dursley\, Gloucestershire\, GL11 5JX\, United Kingdom
CATEGORIES:CMD: Open to all,Other diocesan training,Stewardship and Giving
ORGANIZER;CN="Lisa-Jane Lewis":MAILTO:llewis@glosdioc.org.uk
END:VEVENT
BEGIN:VEVENT
DTSTART;TZID=Europe/London:20241001T190000
DTEND;TZID=Europe/London:20241001T210000
DTSTAMP:20260424T230049
CREATED:20240405T090516Z
LAST-MODIFIED:20240620T095113Z
UID:59244-1727809200-1727816400@gloucester.anglican.org
SUMMARY:Preaching Generosity Workshop
DESCRIPTION:This workshop is designed for anyone who leads in churches and wants to feel more confident in preaching and teaching about giving as a part of our Christian discipleship. The workshop will help us think about what the Bible says about money and how to share that with a wider congregation. These sessions are also open to small group leaders who may be leading home groups in the church too.\nRefreshment will be included. \nOption 1:\nDate: 24 June 2024\nTime: 7pm – 9pm\nLocation: St Laurence Parish Church Stroud\nCost: Free Event \nOption 2:\nDate: 1 October 2024\nTime: 7pm-9pm\nLocation: St Catherine’s Church Gloucester\nCost: Free Event \nBook here to secure your place. \nLisa- Jayne Lewis – Stewardship and Giving Advisor \nLisa-Jayne helps church leaders to think about how they can preach and teach about money\, how churches can find ways to increase their income\, find grants and think about regular giving and  financial stewardship as part of our Christian discipleship.
URL:https://gloucester.anglican.org/event/preaching-generosity-workshop-2/
LOCATION:St Catharine’s\, Gloucester\, London Road\, Gloucester\, GL2 0RR\, United Kingdom
CATEGORIES:CMD: Clergy,CMD: Open to all,CMD: Readers,Curates,Developing Your Ministry,Stewardship and Giving,Worship & prayer
ORGANIZER;CN="Lisa-Jane Lewis":MAILTO:llewis@glosdioc.org.uk
END:VEVENT
BEGIN:VEVENT
DTSTART;TZID=Europe/London:20240930T190000
DTEND;TZID=Europe/London:20240930T210000
DTSTAMP:20260424T230049
CREATED:20240405T113239Z
LAST-MODIFIED:20240620T095002Z
UID:59266-1727722800-1727730000@gloucester.anglican.org
SUMMARY:Friends of… Workshop
DESCRIPTION:What are the benefits of a ‘Friends of’ scheme in your church or community? If you are looking at setting one up or already have one that you’d like to grow and develop then this workshop will help you to think about how your ‘Friends of’ community can be of best help in generating income. Many ‘Friends of’ groups support the fabric of the church itself\, so this workshop is being run in partnership with our Diocesan buildings’ teams.\nRefreshment will be included. \nDate: 30 September 2024\nTime: 7pm – 9pm\nLocation: St James Church Bream\,\nCost: Free Event \nBook here to secure your place. \nLisa- Jayne Lewis – Stewardship and Giving Advisor \nLisa-Jayne helps church leaders to think about how they can preach and teach about money\, how churches can find ways to increase their income\, find grants and think about regular giving and  financial stewardship as part of our Christian discipleship.
URL:https://gloucester.anglican.org/event/friends-of-workshop/
LOCATION:St James Church Bream\, 1 St James Sq\, Bream\, GL15 6HB\, United Kingdom
CATEGORIES:CMD: Clergy,CMD: Open to all,CMD: Readers,Curates,Developing Your Ministry,Stewardship and Giving
ORGANIZER;CN="Lisa-Jane Lewis":MAILTO:llewis@glosdioc.org.uk
END:VEVENT
BEGIN:VEVENT
DTSTART;TZID=Europe/London:20240927T100000
DTEND;TZID=Europe/London:20240927T140000
DTSTAMP:20260424T230049
CREATED:20240404T115238Z
LAST-MODIFIED:20240620T095447Z
UID:59225-1727431200-1727445600@gloucester.anglican.org
SUMMARY:Fundraising Workshop
DESCRIPTION:This workshop will look at all the different ways that parishes can and do generate income. Bring your ideas and be inspired by what others have done to raise money for all different aspects of mission and ministry. We’ll look at church and community fundraising\, as well as grants\, legacies\, life events and more.\n\n\nThis workshop will be running on two different dates in two different locations. Please choose the workshop that is most convenient to you. \nLunch will be included. \nOption 1:\nDate: 27 September 2024\nTime: 10am – 2pm\nLocation: St Peter’s Church Winchcombe\nCost: Free Event \nOption 2:\nDate: 12 October 2024\nTime: 10am – 2pm\nLocation: St Bartholomew’s Church Cam\nCost: Free Event \n\nPlease book here to secure your place.\n\n\nLisa- Jayne Lewis – Stewardship and Giving Advisor \nLisa-Jayne helps church leaders to think about how they can preach and teach about money\, how churches can find ways to increase their income\, find grants and think about regular giving and  financial stewardship as part of our Christian discipleship.
URL:https://gloucester.anglican.org/event/fundraising-workshop/
LOCATION:St Peter’s Church Winchcombe GL54 5LU\, Gloucester St\, Winchcombe\, Gloucestershire\, GL54 5LU\, United Kingdom
CATEGORIES:CMD: Open to all,Other diocesan training,Stewardship and Giving
ORGANIZER;CN="Lisa-Jane Lewis":MAILTO:llewis@glosdioc.org.uk
END:VEVENT
BEGIN:VEVENT
DTSTART;TZID=Europe/London:20240906T133000
DTEND;TZID=Europe/London:20240906T160000
DTSTAMP:20260424T230049
CREATED:20240730T134542Z
LAST-MODIFIED:20240730T135254Z
UID:61778-1725629400-1725638400@gloucester.anglican.org
SUMMARY:Grant Writing Workshop- Additional workshop due to high demand!
DESCRIPTION:There are many Trusts across the UK who are seeking to make grants to churches and worshipping communities but many churches are unsure how to access these and how to write successful bids. These short workshops will help you think about how to tell the story of your parish or project in a way that enthuses Trust executives\, helping you stand a better chance of being successful.\n\nThis workshop will be running on two different dates in two different locations. Please choose the workshop that is most convenient to you. \nRefreshment will be included. \nDue to popularity we have opened up an afternoon workshop. Please note the morning workshop is now FULLY BOOKED.  \nDate: 6 September 2024\nTime: 1.30am – 4pm\nLocation: St George’s Parish Room Nailsworth\nCost: Free Event \nBook here to secure your place. \nLisa- Jayne Lewis – Stewardship and Giving Advisor \nLisa-Jayne helps church leaders to think about how they can preach and teach about money\, how churches can find ways to increase their income\, find grants and think about regular giving and  financial stewardship as part of our Christian discipleship.
URL:https://gloucester.anglican.org/event/grant-writing-workshop-3/
LOCATION:The Parish Room\, St George’s Church\, Church St\, Nailsworth\, GL6 0BP
CATEGORIES:CMD: Open to all,Developing Your Ministry,Stewardship and Giving
ORGANIZER;CN="Lisa-Jane Lewis":MAILTO:llewis@glosdioc.org.uk
END:VEVENT
BEGIN:VEVENT
DTSTART;TZID=Europe/London:20240906T100000
DTEND;TZID=Europe/London:20240906T123000
DTSTAMP:20260424T230049
CREATED:20240404T123456Z
LAST-MODIFIED:20240730T140824Z
UID:59232-1725616800-1725625800@gloucester.anglican.org
SUMMARY:Grant Writing Workshop- FULLY BOOKED
DESCRIPTION:Please note that there are no longer any spaces for this workshop. Due to this we have created an additional afternoon workshop. \n\nThere are many Trusts across the UK who are seeking to make grants to churches and worshipping communities but many churches are unsure how to access these and how to write successful bids. These short workshops will help you think about how to tell the story of your parish or project in a way that enthuses Trust executives\, helping you stand a better chance of being successful.\n\nThis workshop will be running on two different dates in two different locations. Please choose the workshop that is most convenient to you. \nRefreshment will be included. \n\nBook here to secure your place. \n  \n  \n  \n\nLisa- Jayne Lewis – Stewardship and Giving Advisor \nLisa-Jayne helps church leaders to think about how they can preach and teach about money\, how churches can find ways to increase their income\, find grants and think about regular giving and  financial stewardship as part of our Christian discipleship.
URL:https://gloucester.anglican.org/event/grant-writing-workshop-2/
LOCATION:The Parish Room\, St George’s Church\, Church St\, Nailsworth\, GL6 0BP
CATEGORIES:CMD: Open to all,Other diocesan training,Stewardship and Giving
ORGANIZER;CN="Lisa-Jane Lewis":MAILTO:llewis@glosdioc.org.uk
END:VEVENT
BEGIN:VEVENT
DTSTART;TZID=Europe/London:20240622T100000
DTEND;TZID=Europe/London:20240622T123000
DTSTAMP:20260424T230050
CREATED:20240404T123057Z
LAST-MODIFIED:20240620T095345Z
UID:59233-1719050400-1719059400@gloucester.anglican.org
SUMMARY:Grant Writing Workshop
DESCRIPTION:There are many Trusts across the UK who are seeking to make grants to churches and worshipping communities but many churches are unsure how to access these and how to write successful bids. These short workshops will help you think about how to tell the story of your parish or project in a way that enthuses Trust executives\, helping you stand a better chance of being successful.\n\n\nThis workshop will be running on two different dates in two different locations. Please choose the workshop that is most convenient to you. \nRefreshment will be included. \nOption 1:\nDate: 22 June 2024\nTime: 10am – 12.30pm\nLocation: St David’s Church Moreton-in-Marsh\nCost: Free Event \nOption 2:\nDate: 6 September 2024\nTime: 10am – 12.30pm\nLocation: St George’s Parish Room Nailsworth\nCost: Free Event \n\nBook here to secure your place. \nLisa- Jayne Lewis – Stewardship and Giving Advisor \nLisa-Jayne helps church leaders to think about how they can preach and teach about money\, how churches can find ways to increase their income\, find grants and think about regular giving and  financial stewardship as part of our Christian discipleship.
URL:https://gloucester.anglican.org/event/grant-writing-workshop/
LOCATION:St David’s Church Moreton-in-Marsh\, 1 Church St\,\, Moreton-in-Marsh\, GL56 0LN\, United Kingdom
CATEGORIES:CMD: Open to all,Other diocesan training,Stewardship and Giving
ORGANIZER;CN="Lisa-Jane Lewis":MAILTO:llewis@glosdioc.org.uk
END:VEVENT
END:VCALENDAR