BEGIN:VCALENDAR
VERSION:2.0
PRODID:-//Diocese of Gloucester - ECPv6.15.20//NONSGML v1.0//EN
CALSCALE:GREGORIAN
METHOD:PUBLISH
X-WR-CALNAME:Diocese of Gloucester
X-ORIGINAL-URL:https://gloucester.anglican.org
X-WR-CALDESC:Events for Diocese of Gloucester
REFRESH-INTERVAL;VALUE=DURATION:PT1H
X-Robots-Tag:noindex
X-PUBLISHED-TTL:PT1H
BEGIN:VTIMEZONE
TZID:Europe/London
BEGIN:DAYLIGHT
TZOFFSETFROM:+0000
TZOFFSETTO:+0100
TZNAME:BST
DTSTART:20250330T010000
END:DAYLIGHT
BEGIN:STANDARD
TZOFFSETFROM:+0100
TZOFFSETTO:+0000
TZNAME:GMT
DTSTART:20251026T010000
END:STANDARD
BEGIN:DAYLIGHT
TZOFFSETFROM:+0000
TZOFFSETTO:+0100
TZNAME:BST
DTSTART:20260329T010000
END:DAYLIGHT
BEGIN:STANDARD
TZOFFSETFROM:+0100
TZOFFSETTO:+0000
TZNAME:GMT
DTSTART:20261025T010000
END:STANDARD
BEGIN:DAYLIGHT
TZOFFSETFROM:+0000
TZOFFSETTO:+0100
TZNAME:BST
DTSTART:20270328T010000
END:DAYLIGHT
BEGIN:STANDARD
TZOFFSETFROM:+0100
TZOFFSETTO:+0000
TZNAME:GMT
DTSTART:20271031T010000
END:STANDARD
END:VTIMEZONE
BEGIN:VEVENT
DTSTART;TZID=Europe/London:20260526T190000
DTEND;TZID=Europe/London:20260526T210000
DTSTAMP:20260424T010239
CREATED:20260305T131312Z
LAST-MODIFIED:20260318T122458Z
UID:76263-1779822000-1779829200@gloucester.anglican.org
SUMMARY:Preaching Generosity Workshop
DESCRIPTION:This workshop is designed for anyone who leads in churches and wants to feel more confident in preaching and teaching about giving as a part of our Christian discipleship. The workshop will help us think about what the Bible says about money and how to share that with a wider congregation. These sessions are also open to small group leaders who may be leading home groups in the church too.\nDate: 26 May 2026\nTime: 7pm-9pm\nLocation: Watermoor Parish Hall\, Trinity Road\, Cirencester\, GL7 1NE\nCost: Free Event \nBook here to secure your place. \nLisa- Jayne Lewis – Stewardship and Giving Advisor \nLisa-Jayne helps church leaders to think about how they can preach and teach about money\, how churches can find ways to increase their income\, find grants and think about regular giving and  financial stewardship as part of our Christian discipleship.
URL:https://gloucester.anglican.org/event/preaching-generosity-workshop-may-2026/
LOCATION:Parish Hall Watermoor\, Trinity Road\, Cirencester\, GL7 1NE
CATEGORIES:CMD: Open to all,Developing Your Ministry,Stewardship and Giving
ORGANIZER;CN="Lisa-Jane Lewis":MAILTO:llewis@glosdioc.org.uk
END:VEVENT
BEGIN:VEVENT
DTSTART;TZID=Europe/London:20260528T110000
DTEND;TZID=Europe/London:20260528T160000
DTSTAMP:20260424T010239
CREATED:20260302T130933Z
LAST-MODIFIED:20260330T075003Z
UID:76074-1779966000-1779984000@gloucester.anglican.org
SUMMARY:Stewardship and Giving: Wotton - Deanery drop-in
DESCRIPTION:No need to sign up\, just drop in anytime to discuss any stewardship and giving issues over a cuppa!  \n\nFurther dates for your diary… \nForest South – Tuesday 16 June – The Colliery Café\, Coleford \nCirencester – Thursday 25 June – The Long Table\, Cirencester \nSevern Vale – Thursday 16 July – Manna House Café\, Newent \nTewkesbury & Winchcombe – Tuesday 15 September – The Tipsy Egg\, Winchcombe \nGloucester City – Tuesday 22 September – The Clementine Café\, Gloucester \n  \nLisa- Jayne Lewis – Stewardship and Giving Advisor \nLisa-Jayne helps church leaders to think about how they can preach and teach about money\, how churches can find ways to increase their income\, find grants and think about regular giving and  financial stewardship as part of our Christian discipleship.
URL:https://gloucester.anglican.org/event/deanery-drop-in-28-may/
LOCATION:The Bank Cafe\, 80 Parsonage Street Dursley GL11 4AA\, 80 Parsonage Street\, GL11 4AA\, United Kingdom
CATEGORIES:CMD: Open to all,Developing Your Ministry,Stewardship and Giving
ORGANIZER;CN="Lisa-Jane Lewis":MAILTO:llewis@glosdioc.org.uk
END:VEVENT
END:VCALENDAR