BEGIN:VCALENDAR
VERSION:2.0
PRODID:-//Diocese of Gloucester - ECPv6.15.20//NONSGML v1.0//EN
CALSCALE:GREGORIAN
METHOD:PUBLISH
X-WR-CALNAME:Diocese of Gloucester
X-ORIGINAL-URL:https://gloucester.anglican.org
X-WR-CALDESC:Events for Diocese of Gloucester
REFRESH-INTERVAL;VALUE=DURATION:PT1H
X-Robots-Tag:noindex
X-PUBLISHED-TTL:PT1H
BEGIN:VTIMEZONE
TZID:Europe/London
BEGIN:DAYLIGHT
TZOFFSETFROM:+0000
TZOFFSETTO:+0100
TZNAME:BST
DTSTART:20250330T010000
END:DAYLIGHT
BEGIN:STANDARD
TZOFFSETFROM:+0100
TZOFFSETTO:+0000
TZNAME:GMT
DTSTART:20251026T010000
END:STANDARD
BEGIN:DAYLIGHT
TZOFFSETFROM:+0000
TZOFFSETTO:+0100
TZNAME:BST
DTSTART:20260329T010000
END:DAYLIGHT
BEGIN:STANDARD
TZOFFSETFROM:+0100
TZOFFSETTO:+0000
TZNAME:GMT
DTSTART:20261025T010000
END:STANDARD
BEGIN:DAYLIGHT
TZOFFSETFROM:+0000
TZOFFSETTO:+0100
TZNAME:BST
DTSTART:20270328T010000
END:DAYLIGHT
BEGIN:STANDARD
TZOFFSETFROM:+0100
TZOFFSETTO:+0000
TZNAME:GMT
DTSTART:20271031T010000
END:STANDARD
END:VTIMEZONE
BEGIN:VEVENT
DTSTART;TZID=Europe/London:20260114T071500
DTEND;TZID=Europe/London:20260114T211500
DTSTAMP:20260424T082748
CREATED:20251125T094844Z
LAST-MODIFIED:20251125T094844Z
UID:73466-1768374900-1768425300@gloucester.anglican.org
SUMMARY:Exploring Chaplaincy course
DESCRIPTION:Have you every wondered about being a chaplain? \n \nThese days there are chaplains in all sorts of places\, not just in hospitals and prisons. There are chaplains in primary schools\, GP surgeries\, town centres\, workplaces\, care homes\, law courts\, and even racecourses. You might be able to think of a possible chaplaincy opportunity near you. \nSome chaplains are paid\, but many are volunteers\, giving perhaps just one afternoon a week. Some are ordained\, but many are lay people. You don’t have to be an expert in anything to be a chaplain. You don’t need to be a super confident evangelist. You just need to be able to come alongside other people where they are\, showing God’s love through your listening and your care. \nExploring Chaplaincy is a course for people who want to think about this often-overlooked ministry. Could it be for you? Might there be an opportunity to develop chaplaincy from your church\, in your parish? The course is both for people who are already involved in chaplaincy and also for those just beginning to consider the possibility. \n  \nThe six meetings of the course will cover: \n\n What is a chaplain? What is distinctive about chaplaincy\n Don’t just do something  The importance of presence\n The cloak of compassion  Pastoral care and being prophetic\nTwo ears and one mouth  Listing to people\, listening to place\n Say one for me  The spirituality of chaplaincy\n Where we you go from here?  First steps\, support\, and supervision\n\nThe course is free. \nIt will run from Wednesday 14 January to Wednesday 25 February (with a break on 18 February) between 7.15pm – 9.15pm\, meeting at Francis Close Hall in Cheltenham. \nYou can apply for a place on the course here. \nFor more information please contact Simon Witcombe switcombe@glos.ac.uk
URL:https://gloucester.anglican.org/event/exploring-chaplaincy-course/
LOCATION:Francis Close Hall Campus\, Francis Close Hall\, Cheltenham\, GL50 4UG\, United Kingdom
CATEGORIES:Children and Family ministry,CMD: Open to all,Curates,Developing Your Ministry,Stewardship and Giving,Worship & prayer,Youth Ministry
ORGANIZER;CN="Revd David Treharne":MAILTO:dtreharne@glosdioc.org.uk
END:VEVENT
BEGIN:VEVENT
DTSTART;TZID=Europe/London:20260117T100000
DTEND;TZID=Europe/London:20260117T150000
DTSTAMP:20260424T082748
CREATED:20250716T160630Z
LAST-MODIFIED:20250716T160630Z
UID:70288-1768644000-1768662000@gloucester.anglican.org
SUMMARY:Run the Race Retreat
DESCRIPTION:Therefore\, since we are surrounded by so great a cloud of witnesses\, let us also lay aside every weight and the sin that clings so closely\, and let us run with perseverance the race that is set before us\, looking to Jesus the pioneer and perfecter of our faith\, who for the sake of the joy that was set before him endured the cross\, disregarding its shame\, and has taken his seat at the right hand of the throne of God.  \nHebrews 12:1-2  \nHow do we run the race with endurance\, not falling into trying\, but rather training? \nWhat would it mean to make choices that allow us to flourish\, rest\, be more creative\, and joyful?  \nAs I have listened to felt needs around the Diocese\, how we are to manage our time\, make good choices about what to do and\, probably more importantly\, what not to do\, has come up all over the place. Run the race seeks to offer support into that.  \nThis is not so much a training day\, more led retreat. \nIn it there will be time to discern priorities\, get things in the diary that give us life [yes\, really\, bring your diary – let’s do this!]\, be realistic about what needs to go\, find space for that thing you’ve wanted to do for ages… above all\, to be reminded by God that you are beloved\, and don’t need to do anything to earn God’s love. \nTo book your place please click here. \nLed by: \nKate Stacey\, Collaborative Ministry Lead: Lifelong learning \nThe Revd Kate Stacey leads on the development of an innovative and collaborative approach to ensuring all ministries\, licensed\, lay and ordained grow and flourish.  Kate develops and delivers the CMD programme for everyone. \n  \n  \n  \nBecca Faal\, Strategic Lead for Safeguarding Training & Learning \nBecca is the lead for all safeguarding training and learning. Becca ensures training is delivered to a high standard within the national CofE framework. \n 
URL:https://gloucester.anglican.org/event/run-the-race-2-2/
LOCATION:Prinknash Abbey\, Prinknash Abbey\, Gloucester\, GL4 8EX
CATEGORIES:Children and Family ministry,CMD: Clergy,CMD: Open to all,CMD: Readers,Curates,Developing Your Ministry,Environment,Everyday Faith,Other diocesan training,Stewardship and Giving,Worship & prayer,Youth Ministry
ORGANIZER;CN="Revd Kate Stacey":MAILTO:kstacey@glosdioc.org.uk
END:VEVENT
BEGIN:VEVENT
DTSTART;TZID=Europe/London:20260121T071500
DTEND;TZID=Europe/London:20260121T211500
DTSTAMP:20260424T082748
CREATED:20251125T095136Z
LAST-MODIFIED:20251125T095234Z
UID:73472-1768979700-1769030100@gloucester.anglican.org
SUMMARY:Exploring Chaplaincy course
DESCRIPTION:Have you every wondered about being a chaplain? \n \nThese days there are chaplains in all sorts of places\, not just in hospitals and prisons. There are chaplains in primary schools\, GP surgeries\, town centres\, workplaces\, care homes\, law courts\, and even racecourses. You might be able to think of a possible chaplaincy opportunity near you. \nSome chaplains are paid\, but many are volunteers\, giving perhaps just one afternoon a week. Some are ordained\, but many are lay people. You don’t have to be an expert in anything to be a chaplain. You don’t need to be a super confident evangelist. You just need to be able to come alongside other people where they are\, showing God’s love through your listening and your care. \nExploring Chaplaincy is a course for people who want to think about this often-overlooked ministry. Could it be for you? Might there be an opportunity to develop chaplaincy from your church\, in your parish? The course is both for people who are already involved in chaplaincy and also for those just beginning to consider the possibility. \n  \nThe six meetings of the course will cover: \n\n What is a chaplain? What is distinctive about chaplaincy\n Don’t just do something  The importance of presence\n The cloak of compassion  Pastoral care and being prophetic\nTwo ears and one mouth  Listing to people\, listening to place\n Say one for me  The spirituality of chaplaincy\n Where we you go from here?  First steps\, support\, and supervision\n\nThe course is free. \nIt will run from Wednesday 14 January to Wednesday 25 February (with a break on 18 February) between 7.15pm – 9.15pm\, meeting at Francis Close Hall in Cheltenham. \nTo access the booking form before 14 January please click here \nFor more information please contact Simon Witcombe switcombe@glos.ac.uk
URL:https://gloucester.anglican.org/event/exploring-chaplaincy-course-2/
LOCATION:Francis Close Hall Campus\, Francis Close Hall\, Cheltenham\, GL50 4UG\, United Kingdom
CATEGORIES:Children and Family ministry,CMD: Open to all,Curates,Developing Your Ministry,Stewardship and Giving,Worship & prayer,Youth Ministry
ORGANIZER;CN="Revd David Treharne":MAILTO:dtreharne@glosdioc.org.uk
END:VEVENT
BEGIN:VEVENT
DTSTART;TZID=Europe/London:20260127T100000
DTEND;TZID=Europe/London:20260127T120000
DTSTAMP:20260424T082748
CREATED:20250528T110123Z
LAST-MODIFIED:20251224T133946Z
UID:69151-1769508000-1769515200@gloucester.anglican.org
SUMMARY:Preaching Generosity Workshop
DESCRIPTION:This workshop is designed for anyone who leads in churches and wants to feel more confident in preaching and teaching about giving as a part of our Christian discipleship. The workshop will help us think about what the Bible says about money and how to share that with a wider congregation. These sessions are also open to small group leaders who may be leading home groups in the church too.\nDate: 27 January 2026\nTime: 10am-12pm\nLocation: Online\nCost: Free Event \nBook here to secure your place. \nLisa- Jayne Lewis – Stewardship and Giving Advisor \nLisa-Jayne helps church leaders to think about how they can preach and teach about money\, how churches can find ways to increase their income\, find grants and think about regular giving and  financial stewardship as part of our Christian discipleship.
URL:https://gloucester.anglican.org/event/preaching-generosity-workshop-27-jan/
LOCATION:Online
CATEGORIES:CMD: Open to all,Developing Your Ministry,Stewardship and Giving,Worship & prayer
ORGANIZER;CN="Lisa-Jane Lewis":MAILTO:llewis@glosdioc.org.uk
END:VEVENT
BEGIN:VEVENT
DTSTART;TZID=Europe/London:20260127T190000
DTEND;TZID=Europe/London:20260127T210000
DTSTAMP:20260424T082748
CREATED:20250903T163134Z
LAST-MODIFIED:20251029T115844Z
UID:71451-1769540400-1769547600@gloucester.anglican.org
SUMMARY:Friends of… Workshop
DESCRIPTION:What are the benefits of a ‘Friends of’ scheme in your church or community? If you are looking at setting one up or already have one that you’d like to grow and develop then this workshop will help you to think about how your ‘Friends of’ community can be of best help in generating income. Many ‘Friends of’ groups support the fabric of the church itself\, so this workshop is being run in partnership with our Diocesan buildings’ teams.\nRefreshment will be included. \nBook here to secure your place. \nLisa- Jayne Lewis – Stewardship and Giving Advisor \nLisa-Jayne helps church leaders to think about how they can preach and teach about money\, how churches can find ways to increase their income\, find grants and think about regular giving and  financial stewardship as part of our Christian discipleship.
URL:https://gloucester.anglican.org/event/friends-of-workshop-january/
LOCATION:Saints Philip and James Church\, Up Hatherley\, Cold Pool Lane\, Cheltenham\, GL51 6HX\, United Kingdom
CATEGORIES:CMD: Open to all,Developing Your Ministry,Stewardship and Giving
ORGANIZER;CN="Lisa-Jane Lewis":MAILTO:llewis@glosdioc.org.uk
END:VEVENT
BEGIN:VEVENT
DTSTART;TZID=Europe/London:20260128T071500
DTEND;TZID=Europe/London:20260128T211500
DTSTAMP:20260424T082748
CREATED:20251125T095312Z
LAST-MODIFIED:20251125T095558Z
UID:73474-1769584500-1769634900@gloucester.anglican.org
SUMMARY:Exploring Chaplaincy course
DESCRIPTION:Have you every wondered about being a chaplain? \n \nThese days there are chaplains in all sorts of places\, not just in hospitals and prisons. There are chaplains in primary schools\, GP surgeries\, town centres\, workplaces\, care homes\, law courts\, and even racecourses. You might be able to think of a possible chaplaincy opportunity near you. \nSome chaplains are paid\, but many are volunteers\, giving perhaps just one afternoon a week. Some are ordained\, but many are lay people. You don’t have to be an expert in anything to be a chaplain. You don’t need to be a super confident evangelist. You just need to be able to come alongside other people where they are\, showing God’s love through your listening and your care. \nExploring Chaplaincy is a course for people who want to think about this often-overlooked ministry. Could it be for you? Might there be an opportunity to develop chaplaincy from your church\, in your parish? The course is both for people who are already involved in chaplaincy and also for those just beginning to consider the possibility. \n  \nThe six meetings of the course will cover: \n\n What is a chaplain? What is distinctive about chaplaincy\n Don’t just do something  The importance of presence\n The cloak of compassion  Pastoral care and being prophetic\nTwo ears and one mouth  Listing to people\, listening to place\n Say one for me  The spirituality of chaplaincy\n Where we you go from here?  First steps\, support\, and supervision\n\nThe course is free. \nIt will run from Wednesday 14 January to Wednesday 25 February (with a break on 18 February) between 7.15pm – 9.15pm\, meeting at Francis Close Hall in Cheltenham. \nTo access the booking form before 14 January please click here \nFor more information please contact Simon Witcombe switcombe@glos.ac.uk
URL:https://gloucester.anglican.org/event/exploring-chaplaincy-course-2-2/
LOCATION:Francis Close Hall Campus\, Francis Close Hall\, Cheltenham\, GL50 4UG\, United Kingdom
CATEGORIES:Children and Family ministry,CMD: Open to all,Curates,Developing Your Ministry,Stewardship and Giving,Worship & prayer,Youth Ministry
ORGANIZER;CN="Revd David Treharne":MAILTO:dtreharne@glosdioc.org.uk
END:VEVENT
END:VCALENDAR