BEGIN:VCALENDAR
VERSION:2.0
PRODID:-//Diocese of Gloucester - ECPv6.15.20//NONSGML v1.0//EN
CALSCALE:GREGORIAN
METHOD:PUBLISH
X-WR-CALNAME:Diocese of Gloucester
X-ORIGINAL-URL:https://gloucester.anglican.org
X-WR-CALDESC:Events for Diocese of Gloucester
REFRESH-INTERVAL;VALUE=DURATION:PT1H
X-Robots-Tag:noindex
X-PUBLISHED-TTL:PT1H
BEGIN:VTIMEZONE
TZID:Europe/London
BEGIN:DAYLIGHT
TZOFFSETFROM:+0000
TZOFFSETTO:+0100
TZNAME:BST
DTSTART:20230326T010000
END:DAYLIGHT
BEGIN:STANDARD
TZOFFSETFROM:+0100
TZOFFSETTO:+0000
TZNAME:GMT
DTSTART:20231029T010000
END:STANDARD
BEGIN:DAYLIGHT
TZOFFSETFROM:+0000
TZOFFSETTO:+0100
TZNAME:BST
DTSTART:20240331T010000
END:DAYLIGHT
BEGIN:STANDARD
TZOFFSETFROM:+0100
TZOFFSETTO:+0000
TZNAME:GMT
DTSTART:20241027T010000
END:STANDARD
BEGIN:DAYLIGHT
TZOFFSETFROM:+0000
TZOFFSETTO:+0100
TZNAME:BST
DTSTART:20250330T010000
END:DAYLIGHT
BEGIN:STANDARD
TZOFFSETFROM:+0100
TZOFFSETTO:+0000
TZNAME:GMT
DTSTART:20251026T010000
END:STANDARD
BEGIN:DAYLIGHT
TZOFFSETFROM:+0000
TZOFFSETTO:+0100
TZNAME:BST
DTSTART:20260329T010000
END:DAYLIGHT
BEGIN:STANDARD
TZOFFSETFROM:+0100
TZOFFSETTO:+0000
TZNAME:GMT
DTSTART:20261025T010000
END:STANDARD
BEGIN:DAYLIGHT
TZOFFSETFROM:+0000
TZOFFSETTO:+0100
TZNAME:BST
DTSTART:20270328T010000
END:DAYLIGHT
BEGIN:STANDARD
TZOFFSETFROM:+0100
TZOFFSETTO:+0000
TZNAME:GMT
DTSTART:20271031T010000
END:STANDARD
END:VTIMEZONE
BEGIN:VEVENT
DTSTART;TZID=Europe/London:20260127T160000
DTEND;TZID=Europe/London:20260127T173000
DTSTAMP:20260420T164431
CREATED:20260106T125641Z
LAST-MODIFIED:20260106T125641Z
UID:74308-1769529600-1769535000@gloucester.anglican.org
SUMMARY:SIAMS IQ2 – Vision Informed Curriculum
DESCRIPTION:Tuesday 27 January 2026   4.00pm-5.30pm       Online \nFor Headteachers\, Senior Leaders & Curriculum leaders. This training focuses on how to establish an effective curriculum which is rooted in vision and enhances spiritual development. During the session participants will consider the theologically rooted drivers which should inform and shape curriculum design and provision and ensure spiritual development is an intrinsic part of the curriculum. Participants will also have the opportunity to reflect on impact and the evidence base they will need to provide for this IQ. Cost per delegate: £50 for the set of 4 \nPlease book here
URL:https://gloucester.anglican.org/event/siams-iq2-vision-informed-curriculum/
LOCATION:Online
CATEGORIES:New headteachers,New to working in a church school,School governance,Schools
END:VEVENT
BEGIN:VEVENT
DTSTART;TZID=Europe/London:20260121T123000
DTEND;TZID=Europe/London:20260121T170000
DTSTAMP:20260420T164431
CREATED:20260106T125405Z
LAST-MODIFIED:20260106T125405Z
UID:74305-1768998600-1769014800@gloucester.anglican.org
SUMMARY:Induction & Lunch for new Headteachers
DESCRIPTION:Wednesday 21 January 2026         12.30pm-5.00pm \nNo cost to schools – for Headteachers new to headship in a Church school. This essential induction session is held centrally. It will give you an overview of the distinctive nature of Church school leadership and what it means to lead a Church school. You will be introduced to the people and resources available to support you in your work. You will be welcomed by the Bishop and Education Team and will also get the opportunity to make valuable supportive connections with other colleagues new to headship in our schools. The course is repeated three times across the year to ensure all headteachers (including interim heads\, acting heads and heads of school) new to Church schools in the diocese can attend. Feedback from previous attendees strongly highlights the value of attending on the first available date as you take up your new role. Venue: Chapter Room\, Church House\, 5 Denmark Road\, Gloucester\, GL1 3HW \nPlease book here
URL:https://gloucester.anglican.org/event/induction-lunch-for-new-headteachers/
LOCATION:Church House\, 5 Denmark Road\, Gloucester\, GL1 3HW\, 5 Denmark Road\, Gloucester\, Gloucestershire\, GL1 3HW\, United Kingdom
CATEGORIES:New headteachers,New to working in a church school,Schools
END:VEVENT
BEGIN:VEVENT
DTSTART;TZID=Europe/London:20250625T180000
DTEND;TZID=Europe/London:20250625T193000
DTSTAMP:20260420T164431
CREATED:20241028T114530Z
LAST-MODIFIED:20241028T114530Z
UID:64112-1750874400-1750879800@gloucester.anglican.org
SUMMARY:Meet the School Trusts
DESCRIPTION:For headteachers\, chairs of governors\, senior leaders\nAn opportunity to meet individuals from within the family of School Trusts who work with our schools\, make connections and find out about life within a School Trust. Different sessions will include different members of School Trust families\, such as CEOs\, headteachers and governors within School Trusts.\nBook here
URL:https://gloucester.anglican.org/event/meet-the-school-trusts-3/
LOCATION:Online
CATEGORIES:New headteachers,New to working in a church school,School governance,Schools
END:VEVENT
BEGIN:VEVENT
DTSTART;TZID=Europe/London:20250521T170000
DTEND;TZID=Europe/London:20250521T190000
DTSTAMP:20260420T164431
CREATED:20241028T113727Z
LAST-MODIFIED:20241028T113727Z
UID:64108-1747846800-1747854000@gloucester.anglican.org
SUMMARY:Exploring Academisation
DESCRIPTION:For governors\, trustees and headteachers of maintained Church Schools and SATs and headteachers. Other senior leaders are also welcome.\nAn opportunity to find out more about the DBE strategy for schools considering joining a School Trust\, advice on how to explore your options if you are considering joining a School Trust and to obtain practical advice about the process of finding a good home in a School Trust.\nWe will provide updates and information to support you\, including:\n· the current options for Church schools considering joining a School Trust \n· the DBE Policy on the academisation of Church schools and process for requesting conditional consent to join a School Trust\n· helpful resources to support you in your conversations and decision-making\nThere will be an opportunity for questions\, or to arrange a follow-up conversation with a member of the Education Team.\n“Very interactive and engaging. Incredibly informative”\nBook here
URL:https://gloucester.anglican.org/event/exploring-academisation-2/
LOCATION:Holiday Inn Gloucester-Cheltenham\, Crest Way\, Barnwood\, Gloucester\, GL4 3RX\, United Kingdom
CATEGORIES:New headteachers,New to working in a church school,School governance,Schools
END:VEVENT
BEGIN:VEVENT
DTSTART;TZID=Europe/London:20250521T094500
DTEND;TZID=Europe/London:20250521T150000
DTSTAMP:20260420T164431
CREATED:20241028T112959Z
LAST-MODIFIED:20241028T112959Z
UID:64105-1747820700-1747839600@gloucester.anglican.org
SUMMARY:Help! How can I prepare for SIAMS?
DESCRIPTION:For Headteachers\, governors and those who lead on the Christian character of the school including trust leaders\nThis is a one day course\, with lunch\, for headteachers\, governors and those who lead on the Christian character of the school or aspects of the SIAMS framework.\nThe focus of this day will be to update you on the 2023 SIAMS framework. We will explore what is meant by a theologically rooted Christian Vision. We will unpick each of the inspection questions and look in more detail at the judgements and the self-evaluation process (SEF).\nPlease choose whether you wish to attend in the autumn\, spring or summer term when making your booking.\n“Excellent\, incredibly clear and informative. Great overview suitable for wide-ranging types of church schools and academy trusts.” “Excellent – practical\, theoretical and supportive. Lots of information\, clear and concise”\, “Very helpful\, with many ideas to move forwards”\nDiscount – second place half price\, if head and chair of governors attend together on the same date\nBook here
URL:https://gloucester.anglican.org/event/help-how-can-i-prepare-for-siams-2/
LOCATION:Holiday Inn Gloucester-Cheltenham\, Crest Way\, Barnwood\, Gloucester\, GL4 3RX\, United Kingdom
CATEGORIES:New headteachers,School governance,Schools
END:VEVENT
BEGIN:VEVENT
DTSTART;TZID=Europe/London:20250507T123000
DTEND;TZID=Europe/London:20250507T170000
DTSTAMP:20260420T164431
CREATED:20241028T112046Z
LAST-MODIFIED:20241028T112046Z
UID:64101-1746621000-1746637200@gloucester.anglican.org
SUMMARY:Induction for new Headteachers
DESCRIPTION:For Headteachers new to headship in a Church school\nThis essential induction session is held centrally. It will give you an overview of the distinctive nature of Church school leadership and what it means to lead a church school.  You will be introduced to the people and resources available to support you in your work. You will be welcomed by the Bishop and Education Team. You will also get the opportunity to make valuable supportive connections with other colleagues new to headship in our schools. The session includes lunch.\nThe course is repeated 3 times across the year to ensure all headteachers (including interim heads\, acting heads and heads of school) new to Church schools in the Diocese can attend. We would encourage you to attend at the first available opportunity.\nPlease book separately for each individual who will be attending the course.\n“A really good\, insightful and informative introduction to headship in a C of E school – the sense of ‘family’ and support that is available to us”\nNO COST to schools or participants\nBook here
URL:https://gloucester.anglican.org/event/induction-for-new-headteachers-2/
LOCATION:Parliament Room\, College Green\, Gloucester\, GL1 2LY
CATEGORIES:New headteachers,New to working in a church school,Schools
END:VEVENT
BEGIN:VEVENT
DTSTART;TZID=Europe/London:20250430T131500
DTEND;TZID=Europe/London:20250430T144500
DTSTAMP:20260420T164431
CREATED:20241028T111523Z
LAST-MODIFIED:20241028T111543Z
UID:64094-1746018900-1746024300@gloucester.anglican.org
SUMMARY:ILLUMINATE
DESCRIPTION:For Headteachers and Guest\nOur Autumn\, Spring and Summer termly training and update sessions called Illuminate for Church school leaders will take place via Zoom.\nAs well as the latest news\, information and updates that are important for church school leaders\, each Illuminate includes a longer training item or discussion on a specific area of current interest\, often including examples of good practice from our schools.\nA guest may also register to attend with the headteacher eg RE subject leader\, Deputy Headteacher or Senior Leader. Please book separately for each individual who will be attending the course.\nPlease book in at the beginning of the year to ensure that you\, or a representative from your school\, keeps up to date and your school does not miss out.\n“Input from Education Team was fantastic and the input from schools lead on beautifully. Thank you – it was inspiring”\nZoom links will be sent out 1 week prior to the course\nBook here
URL:https://gloucester.anglican.org/event/illuminate-5/
LOCATION:Online
CATEGORIES:New headteachers,Schools
END:VEVENT
BEGIN:VEVENT
DTSTART;TZID=Europe/London:20250312T150000
DTEND;TZID=Europe/London:20250312T163000
DTSTAMP:20260420T164431
CREATED:20241016T141327Z
LAST-MODIFIED:20241016T141327Z
UID:63838-1741791600-1741797000@gloucester.anglican.org
SUMMARY:Net Zero Carbon School
DESCRIPTION:Ideas that won’t cost the earth\nFor school leaders\, governors and trustees\nBy the end of the session participants should expect to learn ways to reduce their carbon footprint as well as understanding the responsibilities for headteacher\,  governors and the whole school community to work towards the 2030 carbon net zero target.\nWe will cover:\n· Quick wins including behavioural changes\n· Future proofing your school\n· Latest news on funding\n· Understanding your energy use including a review of the Display Energy Certificate (DEC)\n· Latest resources available\n“Excellent\, more than was expected” “Very informative and useful” “Excellent knowledge base. Well delivered – friendly and informative”\nBook here
URL:https://gloucester.anglican.org/event/net-zero-carbon-school-3/
LOCATION:The Jerusalem Room\, No 4 College Green\, Gloucester\, GL1 2LR\, No 4 College Green\, Gloucester\, GL1 2LR\, United Kingdom
CATEGORIES:New headteachers,School governance,Schools
END:VEVENT
BEGIN:VEVENT
DTSTART;TZID=Europe/London:20250305T170000
DTEND;TZID=Europe/London:20250305T190000
DTSTAMP:20260420T164431
CREATED:20241016T140910Z
LAST-MODIFIED:20241016T140910Z
UID:63835-1741194000-1741201200@gloucester.anglican.org
SUMMARY:Exploring Academisation
DESCRIPTION:For governors\, trustees and headteachers of maintained Church Schools and SATs and headteachers. Other senior leaders are also welcome.\nAn opportunity to find out more about the DBE strategy for schools considering joining a School Trust\, advice on how to explore your options if you are considering joining a School Trust and to obtain practical advice about the process of finding a good home in a School Trust.\nWe will provide updates and information to support you\, including:\n· the current options for Church schools considering joining a School Trust\n· the DBE Policy on the academisation of Church schools and process for requesting conditional consent to join a School Trust\n· helpful resources to support you in your conversations and decision-making\nThere will be an opportunity for questions\, or to arrange a follow-up conversation with a member of the Education Team.\n“Very interactive and engaging. Incredibly informative”\nBook here
URL:https://gloucester.anglican.org/event/exploring-academisation/
LOCATION:Online
CATEGORIES:New headteachers,School governance,Schools
END:VEVENT
BEGIN:VEVENT
DTSTART;TZID=Europe/London:20250226T094500
DTEND;TZID=Europe/London:20250226T150000
DTSTAMP:20260420T164431
CREATED:20241016T140401Z
LAST-MODIFIED:20250130T152953Z
UID:63833-1740563100-1740582000@gloucester.anglican.org
SUMMARY:Collective Worship\, Spirituality & SIAMS
DESCRIPTION:For all\nCollective worship and spirituality can have a huge impact on shaping both the character of your school and the character of individual pupils and adults. To help ensure that this is happening in your school\, this course will aim to inspire your engagement and leadership of worship and develop your understanding of spirituality\, enabling you to encourage spiritual growth throughout your school community.\nWe will also explore how these themes link to the SIAMS framework\, with the hope that by the end of the day you will be looking forward to SIAMS style conversations which will enable you to share all your good practice!\n“Excellent. So much shared to take away.”\nBook here
URL:https://gloucester.anglican.org/event/collective-worship-spirituality-siams/
LOCATION:Holiday Inn Gloucester-Cheltenham\, Crest Way\, Barnwood\, Gloucester\, GL4 3RX\, United Kingdom
CATEGORIES:New headteachers,New to working in a church school,School governance,Schools
END:VEVENT
BEGIN:VEVENT
DTSTART;TZID=Europe/London:20250129T130000
DTEND;TZID=Europe/London:20250129T150000
DTSTAMP:20260420T164431
CREATED:20241015T134001Z
LAST-MODIFIED:20241015T134001Z
UID:63737-1738155600-1738162800@gloucester.anglican.org
SUMMARY:ILLUMINATE
DESCRIPTION:For Headteachers and Guest\nOur Autumn\, Spring and Summer termly training and update sessions called Illuminate for Church school leaders will take place via Zoom.\nAs well as the latest news\, information and updates that are important for church school leaders\, each Illuminate includes a longer training item or discussion on a specific area of current interest\, often including examples of good practice from our schools.\nA guest may also register to attend with the headteacher eg RE subject leader\, Deputy Headteacher or Senior Leader. Please book separately for each individual who will be attending the course.\nPlease book in at the beginning of the year to ensure that you\, or a representative from your school\, keeps up to date and your school does not miss out.\n“Input from Education Team was fantastic and the input from schools lead on beautifully. Thank you – it was inspiring”\nZoom links will be sent out 1 week prior to the course.\nBook here
URL:https://gloucester.anglican.org/event/illuminate-4/
LOCATION:Online
CATEGORIES:New headteachers,Schools
END:VEVENT
BEGIN:VEVENT
DTSTART;TZID=Europe/London:20250122T093000
DTEND;TZID=Europe/London:20250122T150000
DTSTAMP:20260420T164431
CREATED:20241015T133552Z
LAST-MODIFIED:20241015T133552Z
UID:63730-1737538200-1737558000@gloucester.anglican.org
SUMMARY:Help! How can I prepare for SIAMS?
DESCRIPTION:For Headteachers\, governors and those who lead on the Christian character of the school including trust leaders\nThis is a one day course\, with lunch\, for headteachers\, governors and those who lead on the Christian character of the school or aspects of the SIAMS framework.\nThe focus of this day will be to update you on the 2023 SIAMS framework. We will explore what is meant by a theologically rooted Christian Vision. We will unpick each of the inspection questions and look in more detail at the judgements and the self-evaluation process (SEF).\nPlease choose whether you wish to attend in the autumn\, spring or summer term when making your booking.\n“Excellent\, incredibly clear and informative. Great overview suitable for wide-ranging types of church schools and academy trusts.” “Excellent – practical\, theoretical and supportive. Lots of information\, clear and concise”\, “Very helpful\, with many ideas to move forwards”\nDiscount – second place half price\, if head and chair of governors attend together on the same date\nBook here
URL:https://gloucester.anglican.org/event/help-how-can-i-prepare-for-siams/
LOCATION:Holiday Inn Gloucester-Cheltenham\, Crest Way\, Barnwood\, Gloucester\, GL4 3RX\, United Kingdom
CATEGORIES:New headteachers,School governance,Schools
END:VEVENT
BEGIN:VEVENT
DTSTART;TZID=Europe/London:20250115T123000
DTEND;TZID=Europe/London:20250115T170000
DTSTAMP:20260420T164431
CREATED:20241015T132907Z
LAST-MODIFIED:20241015T132907Z
UID:63727-1736944200-1736960400@gloucester.anglican.org
SUMMARY:Induction for new Headteachers
DESCRIPTION:For Headteachers new to headship in a Church school\nThis essential induction session is held centrally. It will give you an overview of the distinctive nature of Church school leadership and what it means to lead a church school.  You will be introduced to the people and resources available to support you in your work. You will be welcomed by the Bishop and Education Team. You will also get the opportunity to make valuable supportive connections with other colleagues new to headship in our schools. The session includes lunch.\nThe course is repeated 3 times across the year to ensure all headteachers (including interim heads\, acting heads and heads of school) new to Church schools in the Diocese can attend. We would encourage you to attend at the first available opportunity.\nPlease book separately for each individual who will be attending the course.\n“A really good\, insightful and informative introduction to headship in a C of E school – the sense of ‘family’ and support that is available to us”
URL:https://gloucester.anglican.org/event/induction-for-new-headteachers/
LOCATION:Parliament Room\, College Green\, Gloucester\, GL1 2LY
CATEGORIES:New headteachers,New to working in a church school,Schools
END:VEVENT
BEGIN:VEVENT
DTSTART;TZID=Europe/London:20240626T100000
DTEND;TZID=Europe/London:20240626T143000
DTSTAMP:20260420T164431
CREATED:20231117T115330Z
LAST-MODIFIED:20240606T143346Z
UID:56330-1719396000-1719412200@gloucester.anglican.org
SUMMARY:Religious Education and the new SIAMS framework
DESCRIPTION:For RE Subject Leaders\, class teachers\, Early Career Teachers. In the changing world of RE\, this new central training course has been designed to answer the following questions: \n\nHow can you be sure your Religious Education Curriculum is effective?\nHow does your school ensure that the provision\, profile\, and priority of religious education in all key stages reflect its place on the curriculum of a Church school?\nIs RE in your school challenging\, accurate\, well-sequenced\, well-balanced\, relevant\, and diverse?\nIs your school prepared for the new agreed syllabus for Religious Education?\n\nThis is course is ideal for VA and VC schools\, maintained schools and academies. Includes lunch. \nWednesday 26 June 2024     BOOKING IS NOW CLOSED FOR THIS SESSION DUE TO REACHING CAPACITY AT THE VENUE. If you are interested in accessing this training at a future date please register your interest by emailing education@glosdioc.org.uk with the title INTEREST – RE & SIAMS.
URL:https://gloucester.anglican.org/event/religious-education-and-the-new-siams-framework/
LOCATION:Holiday Inn Gloucester-Cheltenham\, Crest Way\, Barnwood\, Gloucester\, GL4 3RX\, United Kingdom
CATEGORIES:New headteachers,New to working in a church school,Other diocesan training,Schools
END:VEVENT
BEGIN:VEVENT
DTSTART;TZID=Europe/London:20240520T131500
DTEND;TZID=Europe/London:20240520T144500
DTSTAMP:20260420T164431
CREATED:20231117T114732Z
LAST-MODIFIED:20231117T121442Z
UID:56328-1716210900-1716216300@gloucester.anglican.org
SUMMARY:Summer ILLUMINATE
DESCRIPTION:For Headteachers and guest. Our Autumn\, Spring and Summer termly training and update sessions called Illuminate for Church school leaders will take place via Zoom. These accessible afternoon sessions will present the latest news\, information and updates that are important for church school leaders\, along with the opportunity for discussions on key issues. A guest may also register to attend with the headteacher eg RE subject leader\, Deputy Headteacher or Senior Leader. Please book separately for each individual who will be attending the course.\nPlease book in at the beginning of the year to ensure that you\, or a representative from your school\, keeps up to date and your school does not miss out. \nMonday 20 May 2024   1.15pm –2.45pm                  Online via Zoom \nBooking deadline: Tuesday 7 May 2024\nZoom links will be sent out 1 week prior to the course\nCost: FREE\nBook in here
URL:https://gloucester.anglican.org/event/illuminate-3/
LOCATION:Online event
CATEGORIES:New headteachers,New to working in a church school,Other diocesan training,Schools
END:VEVENT
BEGIN:VEVENT
DTSTART;TZID=Europe/London:20240502T093000
DTEND;TZID=Europe/London:20240502T150000
DTSTAMP:20260420T164431
CREATED:20231117T114525Z
LAST-MODIFIED:20231117T121714Z
UID:56326-1714642200-1714662000@gloucester.anglican.org
SUMMARY:Help! A new SIAMS framework for 2023
DESCRIPTION:For Headteachers\, Senior Leaders\, CEOs\, and Governors. This is an extended half-day course\, with lunch\, for headteachers\, governors and those who lead on the Christian character of the school or aspects of the SIAMS framework. The focus of this day will be to update you on the new 2023 SIAMS framework. We will provide plenty of opportunity for you to practice talking about your Christian vision in line with the approach taken by inspectors. \nThursday 2 May 2024            9.45am-3.00pm \nBooking deadline: Thursday 18 April 2024\nVenue: Holiday Inn\, Crest Way\, Barnwood\, Gloucester\, GL4 3RX\nCost: £95.00 per delegate\nBook in here
URL:https://gloucester.anglican.org/event/help-a-new-siams-framework-for-2023-2/
LOCATION:Holiday Inn Gloucester-Cheltenham\, Crest Way\, Barnwood\, Gloucester\, GL4 3RX\, United Kingdom
CATEGORIES:New headteachers,New to working in a church school,Other diocesan training,Schools
END:VEVENT
BEGIN:VEVENT
DTSTART;TZID=Europe/London:20240426T100000
DTEND;TZID=Europe/London:20240426T143000
DTSTAMP:20260420T164431
CREATED:20231115T123723Z
LAST-MODIFIED:20231115T160140Z
UID:56292-1714125600-1714141800@gloucester.anglican.org
SUMMARY:Induction and Lunch for new Headteachers
DESCRIPTION:For headteachers new to a Church school. This essential induction is held centrally with other new colleagues and will provide you with an overview of the people and resources available to support you in your work. You will be welcomed by the Bishop\, meet the Education team and develop your understanding of what it means to lead a Church school. The course is repeated 3 times across the year to ensure all headteachers new to Church schools can attend. \nFriday 26 April 2024      10.00am – 2.30pm \nVenue: Jerusalem Rm\, 4 College Green\, Gloucester\, GL1 2LR\nBooking deadline: Friday 12 April 2024\nCost: FREE\nBook in here
URL:https://gloucester.anglican.org/event/induction-and-lunch-for-new-headteachers-2/
LOCATION:The Jerusalem Room\, No 4 College Green\, Gloucester\, GL1 2LR\, No 4 College Green\, Gloucester\, GL1 2LR\, United Kingdom
CATEGORIES:New headteachers,New to working in a church school,Other diocesan training,Schools
END:VEVENT
END:VCALENDAR