BEGIN:VCALENDAR
VERSION:2.0
PRODID:-//Diocese of Gloucester - ECPv6.15.20//NONSGML v1.0//EN
CALSCALE:GREGORIAN
METHOD:PUBLISH
X-WR-CALNAME:Diocese of Gloucester
X-ORIGINAL-URL:https://gloucester.anglican.org
X-WR-CALDESC:Events for Diocese of Gloucester
REFRESH-INTERVAL;VALUE=DURATION:PT1H
X-Robots-Tag:noindex
X-PUBLISHED-TTL:PT1H
BEGIN:VTIMEZONE
TZID:Europe/London
BEGIN:DAYLIGHT
TZOFFSETFROM:+0000
TZOFFSETTO:+0100
TZNAME:BST
DTSTART:20250330T010000
END:DAYLIGHT
BEGIN:STANDARD
TZOFFSETFROM:+0100
TZOFFSETTO:+0000
TZNAME:GMT
DTSTART:20251026T010000
END:STANDARD
BEGIN:DAYLIGHT
TZOFFSETFROM:+0000
TZOFFSETTO:+0100
TZNAME:BST
DTSTART:20260329T010000
END:DAYLIGHT
BEGIN:STANDARD
TZOFFSETFROM:+0100
TZOFFSETTO:+0000
TZNAME:GMT
DTSTART:20261025T010000
END:STANDARD
BEGIN:DAYLIGHT
TZOFFSETFROM:+0000
TZOFFSETTO:+0100
TZNAME:BST
DTSTART:20270328T010000
END:DAYLIGHT
BEGIN:STANDARD
TZOFFSETFROM:+0100
TZOFFSETTO:+0000
TZNAME:GMT
DTSTART:20271031T010000
END:STANDARD
END:VTIMEZONE
BEGIN:VEVENT
DTSTART;TZID=Europe/London:20260311T100000
DTEND;TZID=Europe/London:20260311T123000
DTSTAMP:20260421T164017
CREATED:20251202T113836Z
LAST-MODIFIED:20251202T113836Z
UID:73639-1773223200-1773232200@gloucester.anglican.org
SUMMARY:PSO Induction training
DESCRIPTION:This module is for all new parish safeguarding officers\, existing parish safeguarding officers are also welcome. The aim of the course which is delivered either online or face to face is “To equip learners with an understanding of the role of the Parish Safeguarding Officer and induct them into key working practices and relationships.” \nThis event will be by Zoom \nTo book a place please email ku.gro.coidsolg@gniniartgnidraugefas
URL:https://gloucester.anglican.org/event/pso-induction-training-5/
LOCATION:Online by Zoom
CATEGORIES:Leadership,Parish Safeguarding Officers,Safeguarding - open to all
END:VEVENT
BEGIN:VEVENT
DTSTART;TZID=Europe/London:20260313T100000
DTEND;TZID=Europe/London:20260313T110000
DTSTAMP:20260421T164017
CREATED:20251202T114103Z
LAST-MODIFIED:20251202T114103Z
UID:73641-1773396000-1773399600@gloucester.anglican.org
SUMMARY:Train-the-trainer
DESCRIPTION:A session for PSO’s who which to be trained to deliver Basic and Foundation Safeguarding training. \nThe session will run by Zoom \nTo book a place please email  ku.gro.coidsolg@gniniartgnidraugefas
URL:https://gloucester.anglican.org/event/train-the-trainer-2/
LOCATION:Online by Zoom
CATEGORIES:Leadership,Parish Safeguarding Officers,Safeguarding - open to all
END:VEVENT
BEGIN:VEVENT
DTSTART;TZID=Europe/London:20260319T100000
DTEND;TZID=Europe/London:20260319T110000
DTSTAMP:20260421T164017
CREATED:20251202T114332Z
LAST-MODIFIED:20251202T114332Z
UID:73643-1773914400-1773918000@gloucester.anglican.org
SUMMARY:Parish Dashboard Training
DESCRIPTION:A session to go through the basics of how to use and update your parish’s dashboard and demonstrate how it can be used to support you in ensuring your safeguarding practice is healthy and compliant and to produce reports to share with your PCC. \nPlease let us know if you plan to attend by emailing safeguardingtraining@glosdioc.org.uk \nVenue: Church House\, 5 Denmark Road\, Gloucester\, GL1 3HW
URL:https://gloucester.anglican.org/event/parish-dashboard-training/
LOCATION:Church House\, Denmark Road\, 5 Denmark Road\, Gloucester\, GL1 3HW
CATEGORIES:Leadership,Parish Safeguarding Officers,Safeguarding - open to all
END:VEVENT
BEGIN:VEVENT
DTSTART;TZID=Europe/London:20260319T113000
DTEND;TZID=Europe/London:20260319T123000
DTSTAMP:20260421T164017
CREATED:20251202T114455Z
LAST-MODIFIED:20251202T114455Z
UID:73645-1773919800-1773923400@gloucester.anglican.org
SUMMARY:Hub Training
DESCRIPTION:A session to go through the basics of how to use and update your parish’s Hub and demonstrate how it can be used to support you in ensuring your safeguarding practice is healthy and compliant and to produce reports to share with your PCC. \nPlease let us know if you plan to attend by emailing safeguardingtraining@glosdioc.org.uk \nVenue: Church House\, 5 Denmark Road\, Gloucester\, GL1 3HW
URL:https://gloucester.anglican.org/event/hub-training/
LOCATION:Church House\, Denmark Road\, 5 Denmark Road\, Gloucester\, GL1 3HW
CATEGORIES:Leadership,Parish Safeguarding Officers,Safeguarding - open to all
END:VEVENT
END:VCALENDAR