BEGIN:VCALENDAR
VERSION:2.0
PRODID:-//Diocese of Gloucester - ECPv6.15.20//NONSGML v1.0//EN
CALSCALE:GREGORIAN
METHOD:PUBLISH
X-ORIGINAL-URL:https://gloucester.anglican.org
X-WR-CALDESC:Events for Diocese of Gloucester
REFRESH-INTERVAL;VALUE=DURATION:PT1H
X-Robots-Tag:noindex
X-PUBLISHED-TTL:PT1H
BEGIN:VTIMEZONE
TZID:Europe/London
BEGIN:DAYLIGHT
TZOFFSETFROM:+0000
TZOFFSETTO:+0100
TZNAME:BST
DTSTART:20250330T010000
END:DAYLIGHT
BEGIN:STANDARD
TZOFFSETFROM:+0100
TZOFFSETTO:+0000
TZNAME:GMT
DTSTART:20251026T010000
END:STANDARD
BEGIN:DAYLIGHT
TZOFFSETFROM:+0000
TZOFFSETTO:+0100
TZNAME:BST
DTSTART:20260329T010000
END:DAYLIGHT
BEGIN:STANDARD
TZOFFSETFROM:+0100
TZOFFSETTO:+0000
TZNAME:GMT
DTSTART:20261025T010000
END:STANDARD
BEGIN:DAYLIGHT
TZOFFSETFROM:+0000
TZOFFSETTO:+0100
TZNAME:BST
DTSTART:20270328T010000
END:DAYLIGHT
BEGIN:STANDARD
TZOFFSETFROM:+0100
TZOFFSETTO:+0000
TZNAME:GMT
DTSTART:20271031T010000
END:STANDARD
END:VTIMEZONE
BEGIN:VEVENT
DTSTART;TZID=Europe/London:20260226T160000
DTEND;TZID=Europe/London:20260226T170000
DTSTAMP:20260421T175906
CREATED:20260106T124345Z
LAST-MODIFIED:20260106T124345Z
UID:74296-1772121600-1772125200@gloucester.anglican.org
SUMMARY:Welcome to the Diocesan Church School Family – Online drop in discussion sessions
DESCRIPTION:Thursday 26 February 2026       4.00pm-5.00pm \nFor Early Career Teachers (ECTs) and teachers new to Church schools. Enabling you to explore the ideas in online materials with Education Team colleagues and peers from other schools. Cost of full programme: £25.00 per participant\, including access to asynchronous materials for ECT mentors whose ECTs participate \nPlease book here
URL:https://gloucester.anglican.org/event/welcome-to-the-diocesan-church-school-family-online-drop-in-discussion-sessions-2/
LOCATION:Online
CATEGORIES:New to working in a church school,Other diocesan training,Schools
END:VEVENT
END:VCALENDAR