BEGIN:VCALENDAR
VERSION:2.0
PRODID:-//Diocese of Gloucester - ECPv6.15.20//NONSGML v1.0//EN
CALSCALE:GREGORIAN
METHOD:PUBLISH
X-WR-CALNAME:Diocese of Gloucester
X-ORIGINAL-URL:https://gloucester.anglican.org
X-WR-CALDESC:Events for Diocese of Gloucester
REFRESH-INTERVAL;VALUE=DURATION:PT1H
X-Robots-Tag:noindex
X-PUBLISHED-TTL:PT1H
BEGIN:VTIMEZONE
TZID:Europe/London
BEGIN:DAYLIGHT
TZOFFSETFROM:+0000
TZOFFSETTO:+0100
TZNAME:BST
DTSTART:20250330T010000
END:DAYLIGHT
BEGIN:STANDARD
TZOFFSETFROM:+0100
TZOFFSETTO:+0000
TZNAME:GMT
DTSTART:20251026T010000
END:STANDARD
BEGIN:DAYLIGHT
TZOFFSETFROM:+0000
TZOFFSETTO:+0100
TZNAME:BST
DTSTART:20260329T010000
END:DAYLIGHT
BEGIN:STANDARD
TZOFFSETFROM:+0100
TZOFFSETTO:+0000
TZNAME:GMT
DTSTART:20261025T010000
END:STANDARD
BEGIN:DAYLIGHT
TZOFFSETFROM:+0000
TZOFFSETTO:+0100
TZNAME:BST
DTSTART:20270328T010000
END:DAYLIGHT
BEGIN:STANDARD
TZOFFSETFROM:+0100
TZOFFSETTO:+0000
TZNAME:GMT
DTSTART:20271031T010000
END:STANDARD
END:VTIMEZONE
BEGIN:VEVENT
DTSTART;TZID=Europe/London:20260613T093000
DTEND;TZID=Europe/London:20260613T130000
DTSTAMP:20260422T030703
CREATED:20250827T150837Z
LAST-MODIFIED:20250827T150837Z
UID:71305-1781343000-1781355600@gloucester.anglican.org
SUMMARY:IMD 1-4: Making a good ending
DESCRIPTION:Y3 curates and training incumbents only
URL:https://gloucester.anglican.org/event/imd-1-4-making-a-good-ending/
LOCATION:Jerusalem meeting room\, 4 College Green Gloucester GL1 2LR\, 4 College Green\, Gloucester\, GL1 2LR
CATEGORIES:CMD: Clergy,Curates
ORGANIZER;CN="Revd David Treharne":MAILTO:dtreharne@glosdioc.org.uk
END:VEVENT
END:VCALENDAR