BEGIN:VCALENDAR
VERSION:2.0
PRODID:-//Diocese of Gloucester - ECPv6.15.20//NONSGML v1.0//EN
CALSCALE:GREGORIAN
METHOD:PUBLISH
X-WR-CALNAME:Diocese of Gloucester
X-ORIGINAL-URL:https://gloucester.anglican.org
X-WR-CALDESC:Events for Diocese of Gloucester
REFRESH-INTERVAL;VALUE=DURATION:PT1H
X-Robots-Tag:noindex
X-PUBLISHED-TTL:PT1H
BEGIN:VTIMEZONE
TZID:Europe/London
BEGIN:DAYLIGHT
TZOFFSETFROM:+0000
TZOFFSETTO:+0100
TZNAME:BST
DTSTART:20250330T010000
END:DAYLIGHT
BEGIN:STANDARD
TZOFFSETFROM:+0100
TZOFFSETTO:+0000
TZNAME:GMT
DTSTART:20251026T010000
END:STANDARD
BEGIN:DAYLIGHT
TZOFFSETFROM:+0000
TZOFFSETTO:+0100
TZNAME:BST
DTSTART:20260329T010000
END:DAYLIGHT
BEGIN:STANDARD
TZOFFSETFROM:+0100
TZOFFSETTO:+0000
TZNAME:GMT
DTSTART:20261025T010000
END:STANDARD
BEGIN:DAYLIGHT
TZOFFSETFROM:+0000
TZOFFSETTO:+0100
TZNAME:BST
DTSTART:20270328T010000
END:DAYLIGHT
BEGIN:STANDARD
TZOFFSETFROM:+0100
TZOFFSETTO:+0000
TZNAME:GMT
DTSTART:20271031T010000
END:STANDARD
END:VTIMEZONE
BEGIN:VEVENT
DTSTART;TZID=Europe/London:20260302T130000
DTEND;TZID=Europe/London:20260302T140000
DTSTAMP:20260419T093950
CREATED:20260112T115529Z
LAST-MODIFIED:20260112T115529Z
UID:74424-1772456400-1772460000@gloucester.anglican.org
SUMMARY:Open the Gospel Learning Community
DESCRIPTION:Do you sometimes read the Gospel for this coming Sunday and wonder what new perspective you might find? \n \nWould you value space to wrestle with the text with other\, faithful people? Could you benefit from help thinking through how to connect with all generations through your preaching? \nIf you sometimes feel isolated\, uninspired and like you’d benefit from a sounding board as you prepare to preach\, we are here for you! \nOpen the Gospel is an online learning community of preachers\, lay and ordained\, where each week on a Monday we will engage with the Gospel reading for the coming Sunday from different perspectives. \nIt is a space to listen and learn from one another and\, in the process\, create recorded resources that can be accessed at any time and used in services where a preacher is not available. \nTo join the conversation at 1pm please click here \n 
URL:https://gloucester.anglican.org/event/open-the-gospel-260302/
LOCATION:Online event
CATEGORIES:Children and Family ministry,CMD: Clergy,CMD: Open to all,CMD: Readers,Developing Your Ministry,Everyday Faith,Worship & prayer
ORGANIZER;CN="Revd Kate Stacey":MAILTO:kstacey@glosdioc.org.uk
END:VEVENT
BEGIN:VEVENT
DTSTART;TZID=Europe/London:20260309T130000
DTEND;TZID=Europe/London:20260309T140000
DTSTAMP:20260419T093950
CREATED:20260112T120430Z
LAST-MODIFIED:20260112T120430Z
UID:74428-1773061200-1773064800@gloucester.anglican.org
SUMMARY:Open the Gospel Learning Community
DESCRIPTION:Do you sometimes read the Gospel for this coming Sunday and wonder what new perspective you might find? \n \nWould you value space to wrestle with the text with other\, faithful people? Could you benefit from help thinking through how to connect with all generations through your preaching? \nIf you sometimes feel isolated\, uninspired and like you’d benefit from a sounding board as you prepare to preach\, we are here for you! \nOpen the Gospel is an online learning community of preachers\, lay and ordained\, where each week on a Monday we will engage with the Gospel reading for the coming Sunday from different perspectives. \nIt is a space to listen and learn from one another and\, in the process\, create recorded resources that can be accessed at any time and used in services where a preacher is not available. \nTo join the conversation at 1pm please click here \n 
URL:https://gloucester.anglican.org/event/open-the-gospel-2600309/
LOCATION:Online event
CATEGORIES:Children and Family ministry,CMD: Clergy,CMD: Open to all,CMD: Readers,Developing Your Ministry,Everyday Faith,Worship & prayer
ORGANIZER;CN="Revd Kate Stacey":MAILTO:kstacey@glosdioc.org.uk
END:VEVENT
BEGIN:VEVENT
DTSTART;TZID=Europe/London:20260316T130000
DTEND;TZID=Europe/London:20260316T140000
DTSTAMP:20260419T093950
CREATED:20260112T120604Z
LAST-MODIFIED:20260112T120633Z
UID:74427-1773666000-1773669600@gloucester.anglican.org
SUMMARY:Open the Gospel Learning Community
DESCRIPTION:Do you sometimes read the Gospel for this coming Sunday and wonder what new perspective you might find? \n \nWould you value space to wrestle with the text with other\, faithful people? Could you benefit from help thinking through how to connect with all generations through your preaching? \nIf you sometimes feel isolated\, uninspired and like you’d benefit from a sounding board as you prepare to preach\, we are here for you! \nOpen the Gospel is an online learning community of preachers\, lay and ordained\, where each week on a Monday we will engage with the Gospel reading for the coming Sunday from different perspectives. \nIt is a space to listen and learn from one another and\, in the process\, create recorded resources that can be accessed at any time and used in services where a preacher is not available. \nTo join the conversation at 1pm please click here \n 
URL:https://gloucester.anglican.org/event/open-the-gospel-260316/
LOCATION:Online event
CATEGORIES:Children and Family ministry,CMD: Clergy,CMD: Open to all,CMD: Readers,Developing Your Ministry,Everyday Faith,Worship & prayer
ORGANIZER;CN="Revd Kate Stacey":MAILTO:kstacey@glosdioc.org.uk
END:VEVENT
BEGIN:VEVENT
DTSTART;TZID=Europe/London:20260321T093000
DTEND;TZID=Europe/London:20260321T160000
DTSTAMP:20260419T093950
CREATED:20260224T113906Z
LAST-MODIFIED:20260224T181130Z
UID:75937-1774085400-1774108800@gloucester.anglican.org
SUMMARY:Anglican Intercultural Mission Conference: The Primer
DESCRIPTION:ANIC’s 3rd Anglican Intercultural Mission Conference: The Primer\, takes place in Wolverhampton on Saturday 21 March 2026 (9.30am–4pm). The day is practical and designed for clergy and lay leaders\, parish teams\, and diocesan colleagues who want to move from goodwill to workable steps in local church life. \nBook here →
URL:https://gloucester.anglican.org/event/anglican-intercultural-mission-conference-the-primer/
LOCATION:St John’s Church\, City of Wolverhampton\, Wolverhampton\, WV2 1DT\, United Kingdom
CATEGORIES:CMD: Clergy,CMD: Open to all,Developing Your Ministry,External event
END:VEVENT
BEGIN:VEVENT
DTSTART;TZID=Europe/London:20260323T130000
DTEND;TZID=Europe/London:20260323T140000
DTSTAMP:20260419T093950
CREATED:20260112T120712Z
LAST-MODIFIED:20260112T120712Z
UID:74426-1774270800-1774274400@gloucester.anglican.org
SUMMARY:Open the Gospel Learning Community
DESCRIPTION:Do you sometimes read the Gospel for this coming Sunday and wonder what new perspective you might find? \n \nWould you value space to wrestle with the text with other\, faithful people? Could you benefit from help thinking through how to connect with all generations through your preaching? \nIf you sometimes feel isolated\, uninspired and like you’d benefit from a sounding board as you prepare to preach\, we are here for you! \nOpen the Gospel is an online learning community of preachers\, lay and ordained\, where each week on a Monday we will engage with the Gospel reading for the coming Sunday from different perspectives. \nIt is a space to listen and learn from one another and\, in the process\, create recorded resources that can be accessed at any time and used in services where a preacher is not available. \nTo join the conversation at 1pm please click here \n 
URL:https://gloucester.anglican.org/event/open-the-gospel-260323/
LOCATION:Online event
CATEGORIES:Children and Family ministry,CMD: Clergy,CMD: Open to all,CMD: Readers,Developing Your Ministry,Everyday Faith,Worship & prayer
ORGANIZER;CN="Revd Kate Stacey":MAILTO:kstacey@glosdioc.org.uk
END:VEVENT
BEGIN:VEVENT
DTSTART;TZID=Europe/London:20260330T130000
DTEND;TZID=Europe/London:20260330T140000
DTSTAMP:20260419T093950
CREATED:20260112T120859Z
LAST-MODIFIED:20260112T120859Z
UID:74425-1774875600-1774879200@gloucester.anglican.org
SUMMARY:Open the Gospel Learning Community
DESCRIPTION:Do you sometimes read the Gospel for this coming Sunday and wonder what new perspective you might find? \n \nWould you value space to wrestle with the text with other\, faithful people? Could you benefit from help thinking through how to connect with all generations through your preaching? \nIf you sometimes feel isolated\, uninspired and like you’d benefit from a sounding board as you prepare to preach\, we are here for you! \nOpen the Gospel is an online learning community of preachers\, lay and ordained\, where each week on a Monday we will engage with the Gospel reading for the coming Sunday from different perspectives. \nIt is a space to listen and learn from one another and\, in the process\, create recorded resources that can be accessed at any time and used in services where a preacher is not available. \nTo join the conversation at 1pm please click here \n 
URL:https://gloucester.anglican.org/event/open-the-gospel-260330/
LOCATION:Online event
CATEGORIES:Children and Family ministry,CMD: Clergy,CMD: Open to all,CMD: Readers,Developing Your Ministry,Everyday Faith,Worship & prayer
ORGANIZER;CN="Revd Kate Stacey":MAILTO:kstacey@glosdioc.org.uk
END:VEVENT
END:VCALENDAR