BEGIN:VCALENDAR
VERSION:2.0
PRODID:-//Diocese of Gloucester - ECPv6.15.20//NONSGML v1.0//EN
CALSCALE:GREGORIAN
METHOD:PUBLISH
X-WR-CALNAME:Diocese of Gloucester
X-ORIGINAL-URL:https://gloucester.anglican.org
X-WR-CALDESC:Events for Diocese of Gloucester
REFRESH-INTERVAL;VALUE=DURATION:PT1H
X-Robots-Tag:noindex
X-PUBLISHED-TTL:PT1H
BEGIN:VTIMEZONE
TZID:Europe/London
BEGIN:DAYLIGHT
TZOFFSETFROM:+0000
TZOFFSETTO:+0100
TZNAME:BST
DTSTART:20250330T010000
END:DAYLIGHT
BEGIN:STANDARD
TZOFFSETFROM:+0100
TZOFFSETTO:+0000
TZNAME:GMT
DTSTART:20251026T010000
END:STANDARD
BEGIN:DAYLIGHT
TZOFFSETFROM:+0000
TZOFFSETTO:+0100
TZNAME:BST
DTSTART:20260329T010000
END:DAYLIGHT
BEGIN:STANDARD
TZOFFSETFROM:+0100
TZOFFSETTO:+0000
TZNAME:GMT
DTSTART:20261025T010000
END:STANDARD
BEGIN:DAYLIGHT
TZOFFSETFROM:+0000
TZOFFSETTO:+0100
TZNAME:BST
DTSTART:20270328T010000
END:DAYLIGHT
BEGIN:STANDARD
TZOFFSETFROM:+0100
TZOFFSETTO:+0000
TZNAME:GMT
DTSTART:20271031T010000
END:STANDARD
END:VTIMEZONE
BEGIN:VEVENT
DTSTART;TZID=Europe/London:20260423T160000
DTEND;TZID=Europe/London:20260425T140000
DTSTAMP:20260423T091358
CREATED:20260130T103242Z
LAST-MODIFIED:20260130T103242Z
UID:75106-1776960000-1777125600@gloucester.anglican.org
SUMMARY:'I'm not a theologian\, but...' a Modern Church retreat
DESCRIPTION:A couple of days of honest and open discussion\, creative worship and reflection\, taking place in Holland House\, Worcestershire. Be part of a process where there are no ‘silly questions’ and of a space in which we support one another to reflect on our relationship to prayer\, scripture\, the history of our churches and their teachings. Explore what ‘doing theology’ can mean; how the diverse and vast Christian tradition can be transformed from ‘restricted access’ to ‘open all areas’\, to plunder and enjoy. \nTheir team of facilitators encompass a range of practical theological specialisms and will include:\nElaine Graham is Chair of Modern Church\, Professor Emerita of Practical theology at the University of Chester\, and Fellow of the British Academy \nHelen Stanton is Warden of Holland House and former Anglican Tutor in Ethics\, Doctrine and Spirituality at the Queen’s Foundation \nSimon Sutcliffe is Free Church Chaplain at Keele University\, currently researching the development of theological literacy amongst lay adults. Simon’s current research interests lie at the intersection of Feminist New Materialism and theologies of masculinity \nCarlton Turner is Deputy Director of Research and Practical and Contextual Theologian at the Queens Foundation\, Birmingham \nAlison Webster is General Secretary of Modern Church and a writer and thinker on themes of mission theology and social justice\, identity and Community Organising. \n→ Find out more and book your place \n\n 
URL:https://gloucester.anglican.org/event/im-not-a-theologian-but-a-modern-church-retreat/
LOCATION:Holland House\, Main Street\, Cropthorne\, Pershore\, WR10 3NB
CATEGORIES:External event
END:VEVENT
END:VCALENDAR